BEGIN:VCALENDAR
VERSION:2.0
PRODID:-//North Gorham Public Library - ECPv6.15.20//NONSGML v1.0//EN
CALSCALE:GREGORIAN
METHOD:PUBLISH
X-WR-CALNAME:North Gorham Public Library
X-ORIGINAL-URL:http://north-gorham.lib.me.us
X-WR-CALDESC:Events for North Gorham Public Library
REFRESH-INTERVAL;VALUE=DURATION:PT1H
X-Robots-Tag:noindex
X-PUBLISHED-TTL:PT1H
BEGIN:VTIMEZONE
TZID:America/New_York
BEGIN:DAYLIGHT
TZOFFSETFROM:-0500
TZOFFSETTO:-0400
TZNAME:EDT
DTSTART:20250309T070000
END:DAYLIGHT
BEGIN:STANDARD
TZOFFSETFROM:-0400
TZOFFSETTO:-0500
TZNAME:EST
DTSTART:20251102T060000
END:STANDARD
BEGIN:DAYLIGHT
TZOFFSETFROM:-0500
TZOFFSETTO:-0400
TZNAME:EDT
DTSTART:20260308T070000
END:DAYLIGHT
BEGIN:STANDARD
TZOFFSETFROM:-0400
TZOFFSETTO:-0500
TZNAME:EST
DTSTART:20261101T060000
END:STANDARD
BEGIN:DAYLIGHT
TZOFFSETFROM:-0500
TZOFFSETTO:-0400
TZNAME:EDT
DTSTART:20270314T070000
END:DAYLIGHT
BEGIN:STANDARD
TZOFFSETFROM:-0400
TZOFFSETTO:-0500
TZNAME:EST
DTSTART:20271107T060000
END:STANDARD
END:VTIMEZONE
BEGIN:VEVENT
DTSTART;TZID=America/New_York:20260302T110000
DTEND;TZID=America/New_York:20260302T120000
DTSTAMP:20260422T074813
CREATED:20260218T001328Z
LAST-MODIFIED:20260218T001330Z
UID:4225-1772449200-1772452800@north-gorham.lib.me.us
SUMMARY:Book Club
DESCRIPTION:
URL:http://north-gorham.lib.me.us/event/book-club-7-13/
END:VEVENT
BEGIN:VEVENT
DTSTART;TZID=America/New_York:20260304T103000
DTEND;TZID=America/New_York:20260304T113000
DTSTAMP:20260422T074813
CREATED:20260303T030027Z
LAST-MODIFIED:20260303T030032Z
UID:4245-1772620200-1772623800@north-gorham.lib.me.us
SUMMARY:Story Hour
DESCRIPTION:This Wednesday at Story Hour\, Claire will read Sleepy Sheepy by Lucy Ruth Cummins. For a craft\, the kids will glue stretched out cotton balls onto the body\, some ears and eyes to the head\, and then the head to the body. And what are they making? The cutest little sheep evah! Wednesday\, March 4\, from 10:30 to 11:30 at the North Gorham Public Library.
URL:http://north-gorham.lib.me.us/event/story-hour-93/
ATTACH;FMTTYPE=image/png:http://north-gorham.lib.me.us/wp-content/uploads/2026/03/Sleepy-Sheep.png
END:VEVENT
BEGIN:VEVENT
DTSTART;TZID=America/New_York:20260311T103000
DTEND;TZID=America/New_York:20260311T113000
DTSTAMP:20260422T074813
CREATED:20260309T023132Z
LAST-MODIFIED:20260309T023137Z
UID:4263-1773225000-1773228600@north-gorham.lib.me.us
SUMMARY:Story Hour
DESCRIPTION:This week at Story Hour\, Claire will read I Broke My Trunk! by Mo Willems. Poor little elephant. Have no fear\, the children will come to the rescue. They’ll paint a paper plate elephant face\, add some eyes\, and make sure to glue on a trunk that isn’t broken. This Wednesday\, February 11\, from 10:30 to 11:30 at North Gorham Public Library.
URL:http://north-gorham.lib.me.us/event/story-hour/
ATTACH;FMTTYPE=image/png:http://north-gorham.lib.me.us/wp-content/uploads/2026/03/IMG_3490.png
END:VEVENT
BEGIN:VEVENT
DTSTART;TZID=America/New_York:20260317T000000
DTEND;TZID=America/New_York:20260317T235959
DTSTAMP:20260422T074813
CREATED:20260317T130234Z
LAST-MODIFIED:20260317T130239Z
UID:4277-1773705600-1773791999@north-gorham.lib.me.us
SUMMARY:Happy St. Patrick's Day!
DESCRIPTION:
URL:http://north-gorham.lib.me.us/event/happy-st-patricks-day/
END:VEVENT
BEGIN:VEVENT
DTSTART;TZID=America/New_York:20260318T103000
DTEND;TZID=America/New_York:20260318T113000
DTSTAMP:20260422T074813
CREATED:20260315T142709Z
LAST-MODIFIED:20260315T142711Z
UID:4268-1773829800-1773833400@north-gorham.lib.me.us
SUMMARY:Story Hour
DESCRIPTION:Claire says this week’s Story Hour will be all about flowers! She’ll be reading The Best Flower ever! by Neesha Hudson. The children will have blank vases to decorate and green stems to bloom. All the fixings for the flower heads will be available in different shapes and sizes to be glued or colored on. Spring is definitely in the air.
URL:http://north-gorham.lib.me.us/event/story-hour-2/
ATTACH;FMTTYPE=image/heic:http://north-gorham.lib.me.us/wp-content/uploads/2026/03/IMG_3640.jpg
END:VEVENT
BEGIN:VEVENT
DTSTART;TZID=America/New_York:20260325T103000
DTEND;TZID=America/New_York:20260325T113000
DTSTAMP:20260422T074813
CREATED:20260323T160007Z
LAST-MODIFIED:20260323T160012Z
UID:4283-1774434600-1774438200@north-gorham.lib.me.us
SUMMARY:Story Hour
DESCRIPTION:This week at Story Hour\, the children will make beautiful butterflies. They will choose what color paper they want for the wings and what color popsicle stick they want for the body. They’ll decorate the wings with pom-poms\, cut out shapes/patterns\, fill in with crayons and stickers\, and add pipe-cleaner antennas.  To inspire them\, Claire will read The Crunching Munching Caterpillar\, written by Sheridan Cain and illustrated by Jack Tickle. It’s a story about a caterpillar who longs to fly like his friends\, Bumblebee\, Sparrow\, and Butterfly.
URL:http://north-gorham.lib.me.us/event/story-hour-10/
ATTACH;FMTTYPE=image/png:http://north-gorham.lib.me.us/wp-content/uploads/2026/03/Butterfly-book-1.png
END:VEVENT
BEGIN:VEVENT
DTSTART;TZID=America/New_York:20260330T110000
DTEND;TZID=America/New_York:20260330T120000
DTSTAMP:20260422T074813
CREATED:20260305T222204Z
LAST-MODIFIED:20260318T132244Z
UID:4256-1774868400-1774872000@north-gorham.lib.me.us
SUMMARY:Book Club
DESCRIPTION:
URL:http://north-gorham.lib.me.us/event/book-club-7/
END:VEVENT
END:VCALENDAR