BEGIN:VCALENDAR
VERSION:2.0
PRODID:-//North Gorham Public Library - ECPv6.15.20//NONSGML v1.0//EN
CALSCALE:GREGORIAN
METHOD:PUBLISH
X-ORIGINAL-URL:http://north-gorham.lib.me.us
X-WR-CALDESC:Events for North Gorham Public Library
REFRESH-INTERVAL;VALUE=DURATION:PT1H
X-Robots-Tag:noindex
X-PUBLISHED-TTL:PT1H
BEGIN:VTIMEZONE
TZID:America/New_York
BEGIN:DAYLIGHT
TZOFFSETFROM:-0500
TZOFFSETTO:-0400
TZNAME:EDT
DTSTART:20250309T070000
END:DAYLIGHT
BEGIN:STANDARD
TZOFFSETFROM:-0400
TZOFFSETTO:-0500
TZNAME:EST
DTSTART:20251102T060000
END:STANDARD
BEGIN:DAYLIGHT
TZOFFSETFROM:-0500
TZOFFSETTO:-0400
TZNAME:EDT
DTSTART:20260308T070000
END:DAYLIGHT
BEGIN:STANDARD
TZOFFSETFROM:-0400
TZOFFSETTO:-0500
TZNAME:EST
DTSTART:20261101T060000
END:STANDARD
BEGIN:DAYLIGHT
TZOFFSETFROM:-0500
TZOFFSETTO:-0400
TZNAME:EDT
DTSTART:20270314T070000
END:DAYLIGHT
BEGIN:STANDARD
TZOFFSETFROM:-0400
TZOFFSETTO:-0500
TZNAME:EST
DTSTART:20271107T060000
END:STANDARD
END:VTIMEZONE
BEGIN:VEVENT
DTSTART;TZID=America/New_York:20260101T000000
DTEND;TZID=America/New_York:20260101T235959
DTSTAMP:20260422T151050
CREATED:20251230T010120Z
LAST-MODIFIED:20251230T010122Z
UID:4140-1767225600-1767311999@north-gorham.lib.me.us
SUMMARY:Happy New Year!
DESCRIPTION:
URL:http://north-gorham.lib.me.us/event/happy-new-year-2/
END:VEVENT
BEGIN:VEVENT
DTSTART;TZID=America/New_York:20260107T000000
DTEND;TZID=America/New_York:20260107T235959
DTSTAMP:20260422T151050
CREATED:20260107T143315Z
LAST-MODIFIED:20260107T200754Z
UID:4165-1767744000-1767830399@north-gorham.lib.me.us
SUMMARY:Library Closed a.m/No Story Hour
DESCRIPTION:Due to icy road conditions\, the Library will be closed this morning\, and Story Hour has been canceled. We decided to remain closed for the rest of the day. We will be open on Saturday from 10-1.
URL:http://north-gorham.lib.me.us/event/library-closed-a-m-no-story-hour/
END:VEVENT
BEGIN:VEVENT
DTSTART;TZID=America/New_York:20260110T110000
DTEND;TZID=America/New_York:20260110T130000
DTSTAMP:20260422T151050
CREATED:20251216T161108Z
LAST-MODIFIED:20251231T185445Z
UID:4105-1768042800-1768050000@north-gorham.lib.me.us
SUMMARY:Crafting with Trish
DESCRIPTION:SHRINES OF INTENTION WORKSHOPMaking shrines out of unused sardine cans \n\n\n\nEasy to create – Non-technical & playful Patricia Boissevain\, MA – Workshop Facilitator \n\n\n\n\nAnyone can create a shrine. You do not need special skills or experience. This workshop is fun and suitable for all.\n\n\n\n Art making is part of our social\, emotional\, and spiritual development and has proven to be an essential tool for healing and a way to articulate personal needs and desires.\n\n\n\n A shrine emerges for various reasons: \n\n\n\n\nRemembering  Honoring  Healing Attracting  Expressing  Transforming \n\n\n\nAll materials are supplied\, but you are encouraged to bring any meaningful objects you would like to use in your piece (buttons\, beads\, shells\, photos\, etc). \n\n\n\nDate: Saturday\, January 10\, 2026Time: 11 to 1North Gorham Public Library2 Standish Neck Road\, Gorham \n\n\n\nEVENT IS FREE\, BUT DONATIONS ARE WELCOMEPLEASE SEND US AN EMAIL IF YOU PLAN TO ATTEND \n\n\n\nFor more information about Trish\, who moved here recently from MA\, visit her website. 
URL:http://north-gorham.lib.me.us/event/crafting-with-trish/
END:VEVENT
BEGIN:VEVENT
DTSTART;TZID=America/New_York:20260119T000000
DTEND;TZID=America/New_York:20260119T235959
DTSTAMP:20260422T151050
CREATED:20260119T033530Z
LAST-MODIFIED:20260119T040314Z
UID:4170-1768780800-1768867199@north-gorham.lib.me.us
SUMMARY:Closed/Martin Luther King Day
DESCRIPTION:Closed in observance of Martin Luther King Jr. Day
URL:http://north-gorham.lib.me.us/event/closed-martin-luther-king-day/
END:VEVENT
BEGIN:VEVENT
DTSTART;TZID=America/New_York:20260126T000000
DTEND;TZID=America/New_York:20260126T235959
DTSTAMP:20260422T151050
CREATED:20260125T235543Z
LAST-MODIFIED:20260125T235545Z
UID:4184-1769385600-1769471999@north-gorham.lib.me.us
SUMMARY:Closed/Snow
DESCRIPTION:
URL:http://north-gorham.lib.me.us/event/closed-snow-2/
ATTACH;FMTTYPE=image/png:http://north-gorham.lib.me.us/wp-content/uploads/2026/01/Closed-Snow.png
END:VEVENT
BEGIN:VEVENT
DTSTART;TZID=America/New_York:20260128T103000
DTEND;TZID=America/New_York:20260128T113000
DTSTAMP:20260422T151050
CREATED:20260126T000412Z
LAST-MODIFIED:20260126T000414Z
UID:4186-1769596200-1769599800@north-gorham.lib.me.us
SUMMARY:Story Hour
DESCRIPTION:This week’s Story Hour book is about a girl named Maple and her tree. Maple was written by Lori Nichols. The children will be able to decorate two different pictures of trees\, one in summer/fall and the other in winter. Claire will have supplies on hand to add color\, pom pom apples\, snow\, or even a bird’s nest.
URL:http://north-gorham.lib.me.us/event/story-hour-88/
ATTACH;FMTTYPE=image/jpeg:http://north-gorham.lib.me.us/wp-content/uploads/2026/01/FullSizeRender-2.jpeg
END:VEVENT
END:VCALENDAR