BEGIN:VCALENDAR
VERSION:2.0
PRODID:-//North Gorham Public Library - ECPv6.15.20//NONSGML v1.0//EN
CALSCALE:GREGORIAN
METHOD:PUBLISH
X-ORIGINAL-URL:http://north-gorham.lib.me.us
X-WR-CALDESC:Events for North Gorham Public Library
REFRESH-INTERVAL;VALUE=DURATION:PT1H
X-Robots-Tag:noindex
X-PUBLISHED-TTL:PT1H
BEGIN:VTIMEZONE
TZID:America/New_York
BEGIN:DAYLIGHT
TZOFFSETFROM:-0500
TZOFFSETTO:-0400
TZNAME:EDT
DTSTART:20240310T070000
END:DAYLIGHT
BEGIN:STANDARD
TZOFFSETFROM:-0400
TZOFFSETTO:-0500
TZNAME:EST
DTSTART:20241103T060000
END:STANDARD
BEGIN:DAYLIGHT
TZOFFSETFROM:-0500
TZOFFSETTO:-0400
TZNAME:EDT
DTSTART:20250309T070000
END:DAYLIGHT
BEGIN:STANDARD
TZOFFSETFROM:-0400
TZOFFSETTO:-0500
TZNAME:EST
DTSTART:20251102T060000
END:STANDARD
BEGIN:DAYLIGHT
TZOFFSETFROM:-0500
TZOFFSETTO:-0400
TZNAME:EDT
DTSTART:20260308T070000
END:DAYLIGHT
BEGIN:STANDARD
TZOFFSETFROM:-0400
TZOFFSETTO:-0500
TZNAME:EST
DTSTART:20261101T060000
END:STANDARD
END:VTIMEZONE
BEGIN:VEVENT
DTSTART;TZID=America/New_York:20250804T100000
DTEND;TZID=America/New_York:20250804T120000
DTSTAMP:20260422T224411
CREATED:20250729T002539Z
LAST-MODIFIED:20250729T002540Z
UID:3882-1754301600-1754308800@north-gorham.lib.me.us
SUMMARY:Free Painting Class for Kids
DESCRIPTION:We’re hosting a FREE painting class for kids aged 8 and older. \n\n\n\nMonday\, August 410 am to 12 pmNorth Gorham Public Library \n\n\n\nLocal artist Hope Armstrong Place will read They All Saw a Cat to the children and then help them paint an image from the book. She’ll bring all of the painting supplies (You may want to send along an apron or shirt to cover your child’s clothes.) Parents are welcome\, but if you want to paint\, too\, there will be a $10 fee. \n\n\n\nWe have limited space\, so if you plan to attend\, please let us know how many children and if any adults wish to paint.  Send an email or text Diane at (207) 415-1315.
URL:http://north-gorham.lib.me.us/event/free-painting-class-for-kids/
ATTACH;FMTTYPE=image/png:http://north-gorham.lib.me.us/wp-content/uploads/2025/07/Screen-Shot-2025-07-06-at-6.59.38-PM.png
END:VEVENT
BEGIN:VEVENT
DTSTART;TZID=America/New_York:20250813T103000
DTEND;TZID=America/New_York:20250813T113000
DTSTAMP:20260422T224411
CREATED:20250812T172455Z
LAST-MODIFIED:20250812T172500Z
UID:3895-1755081000-1755084600@north-gorham.lib.me.us
SUMMARY:Story Hour
DESCRIPTION:This week at Story Hour\, Paula will read Dawdle Duckling\, by Maine author Toni Buzzeo. Then\, everyone will get to create their own little duckling by folding and gluing yellow and orange circles. And they might just all waddle and quack around the library! Wednesday\, August 13\, from 10:30 to 11:30 at North Gorham Public Library. Quack\, quack
URL:http://north-gorham.lib.me.us/event/story-hour-72/
ATTACH;FMTTYPE=image/png:http://north-gorham.lib.me.us/wp-content/uploads/2025/08/Ducky-book.png
END:VEVENT
BEGIN:VEVENT
DTSTART;TZID=America/New_York:20250825T110000
DTEND;TZID=America/New_York:20250825T120000
DTSTAMP:20260422T224411
CREATED:20250812T174036Z
LAST-MODIFIED:20250812T174347Z
UID:3897-1756119600-1756123200@north-gorham.lib.me.us
SUMMARY:Book Club
DESCRIPTION:This month\, the Monday morning book club is reading Remarkably Bright Creatures by Shelby Van Pelt. We have a limited number of copies at the library that may be borrowed.  \n\n\n\nThe group will meet to discuss the book on Monday\, August 25\, from 11 to noon at the library. You are welcome to join.
URL:http://north-gorham.lib.me.us/event/book-club-7-7/
ATTACH;FMTTYPE=image/png:http://north-gorham.lib.me.us/wp-content/uploads/2025/08/Screen-Shot-2025-08-12-at-1.35.27-PM.png
END:VEVENT
END:VCALENDAR