BEGIN:VCALENDAR
VERSION:2.0
PRODID:-//North Gorham Public Library - ECPv6.15.20//NONSGML v1.0//EN
CALSCALE:GREGORIAN
METHOD:PUBLISH
X-ORIGINAL-URL:http://north-gorham.lib.me.us
X-WR-CALDESC:Events for North Gorham Public Library
REFRESH-INTERVAL;VALUE=DURATION:PT1H
X-Robots-Tag:noindex
X-PUBLISHED-TTL:PT1H
BEGIN:VTIMEZONE
TZID:America/New_York
BEGIN:DAYLIGHT
TZOFFSETFROM:-0500
TZOFFSETTO:-0400
TZNAME:EDT
DTSTART:20240310T070000
END:DAYLIGHT
BEGIN:STANDARD
TZOFFSETFROM:-0400
TZOFFSETTO:-0500
TZNAME:EST
DTSTART:20241103T060000
END:STANDARD
BEGIN:DAYLIGHT
TZOFFSETFROM:-0500
TZOFFSETTO:-0400
TZNAME:EDT
DTSTART:20250309T070000
END:DAYLIGHT
BEGIN:STANDARD
TZOFFSETFROM:-0400
TZOFFSETTO:-0500
TZNAME:EST
DTSTART:20251102T060000
END:STANDARD
BEGIN:DAYLIGHT
TZOFFSETFROM:-0500
TZOFFSETTO:-0400
TZNAME:EDT
DTSTART:20260308T070000
END:DAYLIGHT
BEGIN:STANDARD
TZOFFSETFROM:-0400
TZOFFSETTO:-0500
TZNAME:EST
DTSTART:20261101T060000
END:STANDARD
END:VTIMEZONE
BEGIN:VEVENT
DTSTART;TZID=America/New_York:20250702T103000
DTEND;TZID=America/New_York:20250702T113000
DTSTAMP:20260423T000230
CREATED:20250702T015027Z
LAST-MODIFIED:20250702T015029Z
UID:3851-1751452200-1751455800@north-gorham.lib.me.us
SUMMARY:Story Hour
DESCRIPTION:During Story Hour this week\, Paula says they’ll read and talk about Fourth of July traditions. Then everyone will paint some colorful fireworks using a variety of objects and washable paint. Join in the fun on Wednesday\, July 2\, from 10:30 to 11:30. Happy Fourth of July!
URL:http://north-gorham.lib.me.us/event/story-hour-68/
ATTACH;FMTTYPE=image/png:http://north-gorham.lib.me.us/wp-content/uploads/2025/07/IMG_7500-copy.png
END:VEVENT
BEGIN:VEVENT
DTSTART;TZID=America/New_York:20250709T103000
DTEND;TZID=America/New_York:20250709T113000
DTSTAMP:20260423T000230
CREATED:20250709T134839Z
LAST-MODIFIED:20250709T134843Z
UID:3857-1752057000-1752060600@north-gorham.lib.me.us
SUMMARY:Story Hour
DESCRIPTION:For Story Hour today\, Paula will read Summer Stinks\, a summer alphabet book. After\, everyone will then go outside and look for summer things mentioned in the book using kids’ binoculars made from toilet paper rolls! Today from 10:30 to 11:30 at the North Gorham Public Library
URL:http://north-gorham.lib.me.us/event/story-hour-69/
ATTACH;FMTTYPE=image/png:http://north-gorham.lib.me.us/wp-content/uploads/2025/07/IMG_7509.png
END:VEVENT
BEGIN:VEVENT
DTSTART;TZID=America/New_York:20250711T100000
DTEND;TZID=America/New_York:20250711T113000
DTSTAMP:20260423T000230
CREATED:20250519T171430Z
LAST-MODIFIED:20250702T014743Z
UID:3730-1752228000-1752233400@north-gorham.lib.me.us
SUMMARY:PortlandStage Theater for Kids
DESCRIPTION:Children in grades pre-K through 5 are invited to enjoy the fun and magic of theater at North Gorham Public Library. \n\n\n\nActors from Portland Stage Company will perform a dramatic reading of children’s stories. After\, children will be able to participate in an interactive acting workshop where they’ll learn how to use their bodies\, voices\, and imaginations to bring stories and characters to life. \n\n\n\nPortlandStage Theater for Kids\n\n\n\nNorth Gorham Public Library\n\n\n\nFriday\, July 11\n\n\n\n10 am to 11:30 am
URL:http://north-gorham.lib.me.us/event/portland-stage-company/
ATTACH;FMTTYPE=image/jpeg:http://north-gorham.lib.me.us/wp-content/uploads/2025/07/N.-Gorham-PS-Graphic.jpg
END:VEVENT
BEGIN:VEVENT
DTSTART;TZID=America/New_York:20250716T103000
DTEND;TZID=America/New_York:20250716T113000
DTSTAMP:20260423T000230
CREATED:20250715T152706Z
LAST-MODIFIED:20250715T152710Z
UID:3860-1752661800-1752665400@north-gorham.lib.me.us
SUMMARY:Story Hour
DESCRIPTION:At Story Hour this week\, Paula will read Blueberries for Sal\, and the children can drop blueberries into their buckets during the “kerplink\, kerplank\, kerplunk” parts. And they’ll be able to eat their blueberries while they are using pouncers to paint little blueberries in their paper plate basket. Wednesday\, July 16\, from 10:30 to 11:30.
URL:http://north-gorham.lib.me.us/event/story-hour-70/
ATTACH;FMTTYPE=image/png:http://north-gorham.lib.me.us/wp-content/uploads/2025/07/Blueberries-for-Sal.png
END:VEVENT
BEGIN:VEVENT
DTSTART;TZID=America/New_York:20250723T103000
DTEND;TZID=America/New_York:20250723T113000
DTSTAMP:20260423T000230
CREATED:20250722T032628Z
LAST-MODIFIED:20250722T032722Z
UID:3873-1753266600-1753270200@north-gorham.lib.me.us
SUMMARY:Story Hour
DESCRIPTION:At Story Hour this week\, Paula will read A Small Thing. . . but Big by Tony Johnston. The kids will color a cut-out dog and a boy or girl and glue them onto a long piece of paper. They’ll connect them with a red yarn leash and add background if they want to — Wednesday\, July 23 from 10:30 to 11:30 at North Gorham Public Library.
URL:http://north-gorham.lib.me.us/event/story-hourat-story-hour-this-week-paula-will-read-a-small-thing-but-big-by-tony-johnston-the-kids-will-color-a-cut-out-dog-and-a-boy-or-girl-and-glue-them-onto-a-long-piece-of-paper-they/
ATTACH;FMTTYPE=image/jpeg:http://north-gorham.lib.me.us/wp-content/uploads/2025/07/IMG_7543.jpeg
END:VEVENT
BEGIN:VEVENT
DTSTART;TZID=America/New_York:20250728T110000
DTEND;TZID=America/New_York:20250728T120000
DTSTAMP:20260423T000230
CREATED:20250715T154453Z
LAST-MODIFIED:20250715T154455Z
UID:3868-1753700400-1753704000@north-gorham.lib.me.us
SUMMARY:Monday Book Club
DESCRIPTION:The Monday Book Club is now reading How to Read a Book by Monica Wood. The group will meet in the library for discussion (and camaraderie) on Monday\, July 28\, from 11 am to noon. You are welcome to join even if you haven’t had the time to read the book.
URL:http://north-gorham.lib.me.us/event/monday-book-club/
ATTACH;FMTTYPE=image/png:http://north-gorham.lib.me.us/wp-content/uploads/2025/07/Screen-Shot-2025-07-06-at-6.46.40-PM.png
END:VEVENT
BEGIN:VEVENT
DTSTART;TZID=America/New_York:20250730T103000
DTEND;TZID=America/New_York:20250730T113000
DTSTAMP:20260423T000230
CREATED:20250729T001859Z
LAST-MODIFIED:20250729T001901Z
UID:3880-1753871400-1753875000@north-gorham.lib.me.us
SUMMARY:Story Hour
DESCRIPTION:At Story Hour on Wednesday\, Paula will read And Then Comes Summer by Tom Brenner. It’s about fun and summer traditions. Afterwards\, they’ll glue together and decorate a paper ice cream cone. And then\, they’ll all cool off by decorating and eating a real one! Yum! Wednesday\, July 30\, from 10:30 to 11:30 at North Gorham Public Library.
URL:http://north-gorham.lib.me.us/event/story-hour-71/
ATTACH;FMTTYPE=image/png:http://north-gorham.lib.me.us/wp-content/uploads/2025/07/Summer.png
END:VEVENT
END:VCALENDAR