BEGIN:VCALENDAR
VERSION:2.0
PRODID:-//North Gorham Public Library - ECPv6.15.20//NONSGML v1.0//EN
CALSCALE:GREGORIAN
METHOD:PUBLISH
X-ORIGINAL-URL:http://north-gorham.lib.me.us
X-WR-CALDESC:Events for North Gorham Public Library
REFRESH-INTERVAL;VALUE=DURATION:PT1H
X-Robots-Tag:noindex
X-PUBLISHED-TTL:PT1H
BEGIN:VTIMEZONE
TZID:America/New_York
BEGIN:DAYLIGHT
TZOFFSETFROM:-0500
TZOFFSETTO:-0400
TZNAME:EDT
DTSTART:20240310T070000
END:DAYLIGHT
BEGIN:STANDARD
TZOFFSETFROM:-0400
TZOFFSETTO:-0500
TZNAME:EST
DTSTART:20241103T060000
END:STANDARD
BEGIN:DAYLIGHT
TZOFFSETFROM:-0500
TZOFFSETTO:-0400
TZNAME:EDT
DTSTART:20250309T070000
END:DAYLIGHT
BEGIN:STANDARD
TZOFFSETFROM:-0400
TZOFFSETTO:-0500
TZNAME:EST
DTSTART:20251102T060000
END:STANDARD
BEGIN:DAYLIGHT
TZOFFSETFROM:-0500
TZOFFSETTO:-0400
TZNAME:EDT
DTSTART:20260308T070000
END:DAYLIGHT
BEGIN:STANDARD
TZOFFSETFROM:-0400
TZOFFSETTO:-0500
TZNAME:EST
DTSTART:20261101T060000
END:STANDARD
END:VTIMEZONE
BEGIN:VEVENT
DTSTART;TZID=America/New_York:20250602T110000
DTEND;TZID=America/New_York:20250602T120000
DTSTAMP:20260423T012432
CREATED:20250518T170105Z
LAST-MODIFIED:20250524T225633Z
UID:3709-1748862000-1748865600@north-gorham.lib.me.us
SUMMARY:Book Club
DESCRIPTION:The Monday Morning Book Club is now reading How to Age Disgracefully by Grace Pooley. If you’d like to join the club\, all you need is a library card\, which can be provided on the spot at no charge\, even if you aren’t a Gorham resident. \n\n\n\nThe next meeting is in the library on Monday\, June 2\, from 11 am to noon. Meetings are usually on the 4th Monday of the month\, but because of Memorial Day\, it is a week later this time.
URL:http://north-gorham.lib.me.us/event/book-club-7-6/
ATTACH;FMTTYPE=image/png:http://north-gorham.lib.me.us/wp-content/uploads/2025/05/Screen-Shot-2025-05-24-at-6.35.55-PM-1.png
END:VEVENT
BEGIN:VEVENT
DTSTART;TZID=America/New_York:20250604T103000
DTEND;TZID=America/New_York:20250604T113000
DTSTAMP:20260423T012432
CREATED:20250525T111305Z
LAST-MODIFIED:20250603T184948Z
UID:3754-1749033000-1749036600@north-gorham.lib.me.us
SUMMARY:Story Hour
DESCRIPTION:Caps for Sale! I remember reading that book over and over again to my daughters when they were little. After the children hear Paula reading it to them at Story Hour this week\, they’ll play “Pin the Cap on the Monkey.” Then they’ll be able to color a cute little monkey to take home. Story Hour at North Gorham Public Library. Wednesday\, June 4 from 10:30 to 11:30.
URL:http://north-gorham.lib.me.us/event/story-hour-65/
ATTACH;FMTTYPE=image/png:http://north-gorham.lib.me.us/wp-content/uploads/2025/06/IMG_7452.png
END:VEVENT
BEGIN:VEVENT
DTSTART;TZID=America/New_York:20250607T090000
DTEND;TZID=America/New_York:20250607T130000
DTSTAMP:20260423T012432
CREATED:20250518T165344Z
LAST-MODIFIED:20250518T170425Z
UID:3704-1749286800-1749301200@north-gorham.lib.me.us
SUMMARY:Spring Plant/Book Sale
DESCRIPTION:
URL:http://north-gorham.lib.me.us/event/spring-plant-book-sale/
ATTACH;FMTTYPE=image/png:http://north-gorham.lib.me.us/wp-content/uploads/2025/05/2025-Plant-Book-Sale-.png
END:VEVENT
BEGIN:VEVENT
DTSTART;TZID=America/New_York:20250611T103000
DTEND;TZID=America/New_York:20250611T113000
DTSTAMP:20260423T012432
CREATED:20250525T111909Z
LAST-MODIFIED:20250611T013651Z
UID:3758-1749637800-1749641400@north-gorham.lib.me.us
SUMMARY:Story Hour
DESCRIPTION:This Wednesday\, Paula will read The 10 Best Things About My Dad by Christine Loomis. Then\, everyone will have a chance to talk about the best thing about their own dads. For a craft project\, the children will finish decorating popsicles with stickers\, pom poms\, and other fun things. Wednesday\, June 11\, in the library from 10:30 to 11:30.
URL:http://north-gorham.lib.me.us/event/story-hour-67/
ATTACH;FMTTYPE=image/png:http://north-gorham.lib.me.us/wp-content/uploads/2025/05/IMG_7465-copy.png
END:VEVENT
BEGIN:VEVENT
DTSTART;TZID=America/New_York:20250612T180000
DTEND;TZID=America/New_York:20250612T200000
DTSTAMP:20260423T012432
CREATED:20250519T165749Z
LAST-MODIFIED:20250525T124823Z
UID:3711-1749751200-1749758400@north-gorham.lib.me.us
SUMMARY:Fly Tying Demo
DESCRIPTION:
URL:http://north-gorham.lib.me.us/event/fly-tying-demo/
ATTACH;FMTTYPE=image/png:http://north-gorham.lib.me.us/wp-content/uploads/2025/05/Fly-Tying-event-copy.png
END:VEVENT
BEGIN:VEVENT
DTSTART;TZID=America/New_York:20250618T103000
DTEND;TZID=America/New_York:20250618T113000
DTSTAMP:20260423T012432
CREATED:20250525T111452Z
LAST-MODIFIED:20250617T172047Z
UID:3756-1750242600-1750246200@north-gorham.lib.me.us
SUMMARY:Story Hour
DESCRIPTION:At Story Hour this week\, Paula says\, “We’ll be clowning around and having fun reading\, singing\, and crafting about clowns and circus activities!” Join the fun on Wednesday\, June 18\, from 10:30 to 11:30.
URL:http://north-gorham.lib.me.us/event/story-hour-66/
ATTACH;FMTTYPE=image/png:http://north-gorham.lib.me.us/wp-content/uploads/2025/06/Story-Hour-June-18.png
END:VEVENT
BEGIN:VEVENT
DTSTART;TZID=America/New_York:20250618T170000
DTEND;TZID=America/New_York:20250618T180000
DTSTAMP:20260423T012432
CREATED:20250615T135609Z
LAST-MODIFIED:20250615T135611Z
UID:3803-1750266000-1750269600@north-gorham.lib.me.us
SUMMARY:After Work Book Club
DESCRIPTION:Our newly formed After Work Book Club is reading The Southern Book Club’s Guide to Slaying Vampires by Grady Hendrix. Even if you haven’t had a chance to read the book\, you are welcome to join the group. The next meeting is on Wednesday\, June 18\, from 5:00 to 6:00 p.m.  \n\n\n\nYou’ll need a library card to join. If you don’t have one\, we’ll happily give you one when you arrive (at no charge\, even if you are not a Gorham resident).  \n\n\n\n\n\n\n\n \n\n\n\nBored and neglected\, 1990s Southern suburban housewife Patricia Campbell has little in her life that truly brings her joy. Her days are filled with caring for a senile mother-in-law named Miss Mary\, a doctor husband\, Carter\, who spends much of his time working\, and two teenage children\, Korey and Carter Jr.\, aka “Blue\,” who are growing up and are distracted by their own interests. \n\n\n\nPatricia’s sole escape is her book club\, which has recently splintered into a new group that focuses on true crime. The group includes Grace\, Kitty Scruggs\, Slick Paley\, and Maryellen. The book club is a chance for these women to escape their domesticity and talk about things other than their husbands and children. However\, everything changes when Patricia is attacked by an elderly neighbor named Ann Savage. Following the attack\, Patricia meets Ann’s nephew\, James Harris. James seems dashing and is good at investments\, but he harbors a little secret. He’s a vampire. (Wikipedia)
URL:http://north-gorham.lib.me.us/event/after-work-book-club-2-3/
ATTACH;FMTTYPE=image/jpeg:http://north-gorham.lib.me.us/wp-content/uploads/2025/06/Vampire-Slaying.jpeg
END:VEVENT
BEGIN:VEVENT
DTSTART;TZID=America/New_York:20250619T000000
DTEND;TZID=America/New_York:20250619T235959
DTSTAMP:20260423T012432
CREATED:20250619T225641Z
LAST-MODIFIED:20250619T225646Z
UID:3830-1750291200-1750377599@north-gorham.lib.me.us
SUMMARY:Juneteenth
DESCRIPTION:
URL:http://north-gorham.lib.me.us/event/juneteenth-2/
END:VEVENT
BEGIN:VEVENT
DTSTART;TZID=America/New_York:20250623T110000
DTEND;TZID=America/New_York:20250623T120000
DTSTAMP:20260423T012432
CREATED:20250615T152159Z
LAST-MODIFIED:20250615T152351Z
UID:3811-1750676400-1750680000@north-gorham.lib.me.us
SUMMARY:Monday Book Club
DESCRIPTION:The Monday Morning Book Club will meet in the library on Monday\, June 23\, from 11 a.m. to noon. This month’s book is North Woods by Daniel Mason. We have copies at the library If you need one. \n\n\n\n \n\n\n\n \n\n\n\n\n\n\n\n“Location\, location\, location. Daniel Mason’s gorgeous fifth novel\, North Woods\, is the story of a place — a yellow house deep in the woods of western Massachusetts — and its motley succession of occupants\, human and otherwise\, who leave their mark on the property over the course of four centuries. \n\n\n\nIt all starts with a pair of young lovers who\, “casting off their Puritan yokes…absconded to…their private Arcadia\,” Mason writes. “They had come to the spot in the freshness of June\, chased from the village by its people\, threading deer path through the forest\, the valleys\, the fern groves\, and the quaking bogs…Gone was England\, gone the Colony.” NPR review
URL:http://north-gorham.lib.me.us/event/monday-book-club-june-23/
ATTACH;FMTTYPE=image/png:http://north-gorham.lib.me.us/wp-content/uploads/2025/06/North-Woods-edited-.png--e1750000543672.png
END:VEVENT
BEGIN:VEVENT
DTSTART;TZID=America/New_York:20250625T103000
DTEND;TZID=America/New_York:20250625T113000
DTSTAMP:20260423T012432
CREATED:20250519T171110Z
LAST-MODIFIED:20250615T162059Z
UID:3726-1750847400-1750851000@north-gorham.lib.me.us
SUMMARY:Tickles the Clown
DESCRIPTION:If the weather cooperates\, we will hold this event outside the library. If not\, we will move inside. \n\n\n\nChildren of all ages (that includes adults) are welcome. \n\n\n\nFor more information about Tickles the Clown\, visit his website. \n\n\n\n10:30 to 11:30 a.m.
URL:http://north-gorham.lib.me.us/event/tickles-the-clown/
ATTACH;FMTTYPE=image/png:http://north-gorham.lib.me.us/wp-content/uploads/2025/05/image0.png
END:VEVENT
BEGIN:VEVENT
DTSTART;TZID=America/New_York:20250625T180000
DTEND;TZID=America/New_York:20250625T200000
DTSTAMP:20260423T012432
CREATED:20250519T171210Z
LAST-MODIFIED:20250625T013049Z
UID:3728-1750874400-1750881600@north-gorham.lib.me.us
SUMMARY:Presumpscot River Secrets
DESCRIPTION:Photo by Chris Shane\n\n\n\nMore than one hundred years ago\, the Presumpscot River was dammed at the Windham/Gorham town line\, and that stretch of river was transformed into Dundee Pond. Last summer\, the dam malfunctioned\, and the water level had to be lowered so it could be repaired. As the water receded\, the secrets lying below the surface for decades slowly revealed themselves\, including the river itself. \n\n\n\nJoin us for a special presentation at the library and learn about some of those secrets\, from tree stumps to remnants of the C & O Canal to rapids and waterfalls to scores of buried artifacts. \n\n\n\nPresented by: \n\n\n\nMichael Shaughnessy\, President\, Friends of the Presumpscot River \n\n\n\nLocal detectorist Julie Caswell will show and discuss buried artifacts she found with her metal detector.
URL:http://north-gorham.lib.me.us/event/presumpscot-river-talk/
ATTACH;FMTTYPE=image/png:http://north-gorham.lib.me.us/wp-content/uploads/2025/06/IMG_5522-copy.png
END:VEVENT
END:VCALENDAR