BEGIN:VCALENDAR
VERSION:2.0
PRODID:-//North Gorham Public Library - ECPv6.15.20//NONSGML v1.0//EN
CALSCALE:GREGORIAN
METHOD:PUBLISH
X-WR-CALNAME:North Gorham Public Library
X-ORIGINAL-URL:http://north-gorham.lib.me.us
X-WR-CALDESC:Events for North Gorham Public Library
REFRESH-INTERVAL;VALUE=DURATION:PT1H
X-Robots-Tag:noindex
X-PUBLISHED-TTL:PT1H
BEGIN:VTIMEZONE
TZID:America/New_York
BEGIN:DAYLIGHT
TZOFFSETFROM:-0500
TZOFFSETTO:-0400
TZNAME:EDT
DTSTART:20240310T070000
END:DAYLIGHT
BEGIN:STANDARD
TZOFFSETFROM:-0400
TZOFFSETTO:-0500
TZNAME:EST
DTSTART:20241103T060000
END:STANDARD
BEGIN:DAYLIGHT
TZOFFSETFROM:-0500
TZOFFSETTO:-0400
TZNAME:EDT
DTSTART:20250309T070000
END:DAYLIGHT
BEGIN:STANDARD
TZOFFSETFROM:-0400
TZOFFSETTO:-0500
TZNAME:EST
DTSTART:20251102T060000
END:STANDARD
BEGIN:DAYLIGHT
TZOFFSETFROM:-0500
TZOFFSETTO:-0400
TZNAME:EDT
DTSTART:20260308T070000
END:DAYLIGHT
BEGIN:STANDARD
TZOFFSETFROM:-0400
TZOFFSETTO:-0500
TZNAME:EST
DTSTART:20261101T060000
END:STANDARD
END:VTIMEZONE
BEGIN:VEVENT
DTSTART;TZID=America/New_York:20250507T103000
DTEND;TZID=America/New_York:20250507T113000
DTSTAMP:20260423T024621
CREATED:20250519T170406Z
LAST-MODIFIED:20250519T170407Z
UID:3717-1746613800-1746617400@north-gorham.lib.me.us
SUMMARY:Story Hour
DESCRIPTION:
URL:http://north-gorham.lib.me.us/event/story-hour-60/
END:VEVENT
BEGIN:VEVENT
DTSTART;TZID=America/New_York:20250507T170000
DTEND;TZID=America/New_York:20250507T180000
DTSTAMP:20260423T024621
CREATED:20250504T200150Z
LAST-MODIFIED:20250504T200316Z
UID:3668-1746637200-1746640800@north-gorham.lib.me.us
SUMMARY:After Work Book Club
DESCRIPTION:Our new After Work Book Club will hold its first meeting in the library on Wednesday\, May 8\, from 5 pm to 6 pm. The group is reading Razorblade Tears by S. A. Cosby. We have copies at the library if you need one\, but you are welcome to join even if you have not read the book. You will need a library card to become a member\, but we can do that at no charge when you arrive (even if you are not a Gorham resident).  \n\n\n\n\nIke Randolph has been out of jail for fifteen years\, with not so much as a speeding ticket in all that time. But a Black man with cops at the door knows to be afraid. \n\n\n\nThe last thing he expects to hear is that his son Isiah has been murdered\, along with Isiah’s white husband\, Derek. Ike had never fully accepted his son but is devastated by his loss. \n\n\n\nDerek’s father Buddy Lee was almost as ashamed of Derek for being gay as Derek was ashamed of his father’s criminal record. Buddy Lee still has contacts in the underworld\, though\, and he wants to know who killed his boy. \n\n\n\nIke and Buddy Lee\, two ex-cons with little else in common other than a criminal past and a love for their dead sons\, band together in their desperate desire for revenge. In their quest to do better for their sons in death than they did in life\, hardened men Ike and Buddy Lee will confront their own prejudices about their sons and each other\, as they rain down vengeance upon those who hurt their boys. \n\n\n\nProvocative and fast-paced\, S. A. Cosby’s Razorblade Tears is a story of bloody retribution\, heartfelt change – and maybe even redemption. \n\n\n\nMacmillan Publishers. \n\n\n\n\nNorth Gorham Library is located at 2 Standish Neck Road\,  Gorham\, Maine 04038. Our phone number is 207-892-2575.
URL:http://north-gorham.lib.me.us/event/after-work-book-club/
ATTACH;FMTTYPE=image/png:http://north-gorham.lib.me.us/wp-content/uploads/2025/05/Screen-Shot-2025-05-04-at-3.51.05-PM.png
END:VEVENT
BEGIN:VEVENT
DTSTART;TZID=America/New_York:20250514T103000
DTEND;TZID=America/New_York:20250514T113000
DTSTAMP:20260423T024621
CREATED:20250519T170457Z
LAST-MODIFIED:20250519T170459Z
UID:3720-1747218600-1747222200@north-gorham.lib.me.us
SUMMARY:Story Hour
DESCRIPTION:
URL:http://north-gorham.lib.me.us/event/story-hour-61/
END:VEVENT
BEGIN:VEVENT
DTSTART;TZID=America/New_York:20250521T103000
DTEND;TZID=America/New_York:20250521T113000
DTSTAMP:20260423T024621
CREATED:20250519T170538Z
LAST-MODIFIED:20250520T010849Z
UID:3722-1747823400-1747827000@north-gorham.lib.me.us
SUMMARY:Story Hour/May 21
DESCRIPTION:At Story Hour this week\, Paula will read Little Beaver and the Echo\, a sweet book about friendship by Maine author Amy MacDonald. The children will have a chance to practice echoing and paint animals with water on brush-and-blend paint pages. Join the fun this Wednesday\, May 21\, from 10:30 to 11:30.
URL:http://north-gorham.lib.me.us/event/story-hour-62/
ATTACH;FMTTYPE=image/png:http://north-gorham.lib.me.us/wp-content/uploads/2025/05/Story-Hour.png
END:VEVENT
BEGIN:VEVENT
DTSTART;TZID=America/New_York:20250526T000000
DTEND;TZID=America/New_York:20250526T235959
DTSTAMP:20260423T024621
CREATED:20250519T170145Z
LAST-MODIFIED:20250519T170147Z
UID:3715-1748217600-1748303999@north-gorham.lib.me.us
SUMMARY:Memorial Day/Closed
DESCRIPTION:
URL:http://north-gorham.lib.me.us/event/memorial-day-closed-2/
END:VEVENT
BEGIN:VEVENT
DTSTART;TZID=America/New_York:20250528T103000
DTEND;TZID=America/New_York:20250528T113000
DTSTAMP:20260423T024621
CREATED:20250519T170616Z
LAST-MODIFIED:20250527T011136Z
UID:3724-1748428200-1748431800@north-gorham.lib.me.us
SUMMARY:Story Hour
DESCRIPTION:For Story Hour this week\, Paula will read Pond Babies\, which was written and illustrated by Gorham resident Cathryn Falwell. Afterwards\, the children will glue pictures of mother animals next to their baby animals. Wednesday\, May 28\, from 10:30 to 11:30.
URL:http://north-gorham.lib.me.us/event/story-hour-63/
ATTACH;FMTTYPE=image/png:http://north-gorham.lib.me.us/wp-content/uploads/2025/05/IMG_7442-copy.png
END:VEVENT
END:VCALENDAR