BEGIN:VCALENDAR
VERSION:2.0
PRODID:-//North Gorham Public Library - ECPv6.15.20//NONSGML v1.0//EN
CALSCALE:GREGORIAN
METHOD:PUBLISH
X-ORIGINAL-URL:http://north-gorham.lib.me.us
X-WR-CALDESC:Events for North Gorham Public Library
REFRESH-INTERVAL;VALUE=DURATION:PT1H
X-Robots-Tag:noindex
X-PUBLISHED-TTL:PT1H
BEGIN:VTIMEZONE
TZID:America/New_York
BEGIN:DAYLIGHT
TZOFFSETFROM:-0500
TZOFFSETTO:-0400
TZNAME:EDT
DTSTART:20240310T070000
END:DAYLIGHT
BEGIN:STANDARD
TZOFFSETFROM:-0400
TZOFFSETTO:-0500
TZNAME:EST
DTSTART:20241103T060000
END:STANDARD
BEGIN:DAYLIGHT
TZOFFSETFROM:-0500
TZOFFSETTO:-0400
TZNAME:EDT
DTSTART:20250309T070000
END:DAYLIGHT
BEGIN:STANDARD
TZOFFSETFROM:-0400
TZOFFSETTO:-0500
TZNAME:EST
DTSTART:20251102T060000
END:STANDARD
BEGIN:DAYLIGHT
TZOFFSETFROM:-0500
TZOFFSETTO:-0400
TZNAME:EDT
DTSTART:20260308T070000
END:DAYLIGHT
BEGIN:STANDARD
TZOFFSETFROM:-0400
TZOFFSETTO:-0500
TZNAME:EST
DTSTART:20261101T060000
END:STANDARD
END:VTIMEZONE
BEGIN:VEVENT
DTSTART;TZID=America/New_York:20250305T103000
DTEND;TZID=America/New_York:20250305T113000
DTSTAMP:20260423T054827
CREATED:20250305T003041Z
LAST-MODIFIED:20250305T003046Z
UID:3567-1741170600-1741174200@north-gorham.lib.me.us
SUMMARY:Story Hour
DESCRIPTION:Paula will read “I Went Walking” at Story Hour this week. The children will match an animal card with the animal in the story whenever that animal joins the walk. Everybody will get to enjoy having their own walking parade around the library\, and will also have a little downtime coloring. You’re invited! Wednesday\, March 5\, 10:30 to 11:30
URL:http://north-gorham.lib.me.us/event/story-hour-52/
ATTACH;FMTTYPE=image/png:http://north-gorham.lib.me.us/wp-content/uploads/2025/03/Story-Hour.png
END:VEVENT
BEGIN:VEVENT
DTSTART;TZID=America/New_York:20250312T103000
DTEND;TZID=America/New_York:20250312T113000
DTSTAMP:20260423T054827
CREATED:20250309T001250Z
LAST-MODIFIED:20250309T001256Z
UID:3573-1741775400-1741779000@north-gorham.lib.me.us
SUMMARY:Story Hour
DESCRIPTION:Paula and the children will be getting ready for St. Patrick’s Day at Story Hour this week. First\, they’ll read about leprechauns\, rainbows\, and pots of gold. Then they’ll make a colorful\, edible rainbow with Fruit Loops\, marshmallows\, and pipe cleaners. Join the fun at Story Hour on Wednesday\, March 12 from 10:30 to 11:30\, and be sure to wear something green! ☘️☘️☘️
URL:http://north-gorham.lib.me.us/event/story-hour-53/
ATTACH;FMTTYPE=image/png:http://north-gorham.lib.me.us/wp-content/uploads/2025/03/IMG_7208.png
END:VEVENT
BEGIN:VEVENT
DTSTART;TZID=America/New_York:20250317T000000
DTEND;TZID=America/New_York:20250317T235959
DTSTAMP:20260423T054827
CREATED:20250316T142410Z
LAST-MODIFIED:20250316T142415Z
UID:3584-1742169600-1742255999@north-gorham.lib.me.us
SUMMARY:St. Patrick's Day
DESCRIPTION:
URL:http://north-gorham.lib.me.us/event/st-patricks-day-2/
ATTACH;FMTTYPE=image/png:http://north-gorham.lib.me.us/wp-content/uploads/2025/03/St.-Patricks-Day-2025-.png
END:VEVENT
BEGIN:VEVENT
DTSTART;TZID=America/New_York:20250319T103000
DTEND;TZID=America/New_York:20250319T113000
DTSTAMP:20260423T054827
CREATED:20250318T195206Z
LAST-MODIFIED:20250318T195221Z
UID:3597-1742380200-1742383800@north-gorham.lib.me.us
SUMMARY:Story Hour
DESCRIPTION:This week at Story Hour\, Paula will read Turtle Splash\, which was written by Gorham author/resident Cathyrn Fallwell. Check out the picture and see the adorable turtle the children will make. Don’t miss out! Story Hour at North Gorham Public Library on Wednesday\, March 19 from 10:30 to 11:30.
URL:http://north-gorham.lib.me.us/event/story-hour-54/
ATTACH;FMTTYPE=image/png:http://north-gorham.lib.me.us/wp-content/uploads/2025/03/Turtle-Splash-cover.png
END:VEVENT
BEGIN:VEVENT
DTSTART;TZID=America/New_York:20250324T110000
DTEND;TZID=America/New_York:20250324T120000
DTSTAMP:20260423T054827
CREATED:20250316T144752Z
LAST-MODIFIED:20250316T144754Z
UID:3586-1742814000-1742817600@north-gorham.lib.me.us
SUMMARY:Book Club
DESCRIPTION:This month\, The North Gorham Public Library Book Club is reading Lessons in Chemistry by Bonnie Garmus.  \n\n\n\n\nIn the early 1960s\, chemist and single mother Elizabeth Zott\, the reluctant star of America’s most beloved cooking show due to her revolutionary skills in the kitchen\, uses this opportunity to dare women to change the status quo. ~Library World \n\n\n\n\nBook Club will meet at the library on Monday\, March 24\, from 11:00 to noon. We have some copies of Lessons in Chemistry available at the library. You are welcome to attend even if you haven’t read the book.
URL:http://north-gorham.lib.me.us/event/book-club-7-4/
ATTACH;FMTTYPE=image/png:http://north-gorham.lib.me.us/wp-content/uploads/2025/03/Lessons-in-Chemistry-cover.png
END:VEVENT
BEGIN:VEVENT
DTSTART;TZID=America/New_York:20250326T103000
DTEND;TZID=America/New_York:20250326T113000
DTSTAMP:20260423T054827
CREATED:20250325T194705Z
LAST-MODIFIED:20250325T194709Z
UID:3604-1742985000-1742988600@north-gorham.lib.me.us
SUMMARY:Story Hour
DESCRIPTION:At Story Hour this week\, Paula will read Big Bug. And maybe you’ve already guessed what the children will make afterward. Bugs! They’ll make spotted ladybugs with paint and pouncers. The picture says it all. Get out of the house and get buggy at North Gorham Public Library. on Wednesday\, March 26\, from 10:30 to 11:30.
URL:http://north-gorham.lib.me.us/event/story-hour-55/
ATTACH;FMTTYPE=image/png:http://north-gorham.lib.me.us/wp-content/uploads/2025/03/Ladybug-book-.png
END:VEVENT
END:VCALENDAR