BEGIN:VCALENDAR
VERSION:2.0
PRODID:-//North Gorham Public Library - ECPv6.15.20//NONSGML v1.0//EN
CALSCALE:GREGORIAN
METHOD:PUBLISH
X-WR-CALNAME:North Gorham Public Library
X-ORIGINAL-URL:http://north-gorham.lib.me.us
X-WR-CALDESC:Events for North Gorham Public Library
REFRESH-INTERVAL;VALUE=DURATION:PT1H
X-Robots-Tag:noindex
X-PUBLISHED-TTL:PT1H
BEGIN:VTIMEZONE
TZID:America/New_York
BEGIN:DAYLIGHT
TZOFFSETFROM:-0500
TZOFFSETTO:-0400
TZNAME:EDT
DTSTART:20230312T070000
END:DAYLIGHT
BEGIN:STANDARD
TZOFFSETFROM:-0400
TZOFFSETTO:-0500
TZNAME:EST
DTSTART:20231105T060000
END:STANDARD
BEGIN:DAYLIGHT
TZOFFSETFROM:-0500
TZOFFSETTO:-0400
TZNAME:EDT
DTSTART:20240310T070000
END:DAYLIGHT
BEGIN:STANDARD
TZOFFSETFROM:-0400
TZOFFSETTO:-0500
TZNAME:EST
DTSTART:20241103T060000
END:STANDARD
BEGIN:DAYLIGHT
TZOFFSETFROM:-0500
TZOFFSETTO:-0400
TZNAME:EDT
DTSTART:20250309T070000
END:DAYLIGHT
BEGIN:STANDARD
TZOFFSETFROM:-0400
TZOFFSETTO:-0500
TZNAME:EST
DTSTART:20251102T060000
END:STANDARD
END:VTIMEZONE
BEGIN:VEVENT
DTSTART;TZID=America/New_York:20241204T103000
DTEND;TZID=America/New_York:20241204T113000
DTSTAMP:20260423T101332
CREATED:20241209T202359Z
LAST-MODIFIED:20241209T202404Z
UID:3424-1733308200-1733311800@north-gorham.lib.me.us
SUMMARY:Story Hour
DESCRIPTION:We’re reading/ singing the songbook “On Top of Spaghetti” then we’ll make our own plate of spaghetti and meatballs to take home.
URL:http://north-gorham.lib.me.us/event/story-hour-41/
ATTACH;FMTTYPE=image/jpeg:http://north-gorham.lib.me.us/wp-content/uploads/2024/12/IMG_6965.jpeg
END:VEVENT
BEGIN:VEVENT
DTSTART;TZID=America/New_York:20241207T090000
DTEND;TZID=America/New_York:20241207T140000
DTSTAMP:20260423T101332
CREATED:20241115T135608Z
LAST-MODIFIED:20241115T135610Z
UID:3393-1733562000-1733580000@north-gorham.lib.me.us
SUMMARY:Holiday Craft & Book Fair
DESCRIPTION:
URL:http://north-gorham.lib.me.us/event/holiday-craft-book-fair/
ATTACH;FMTTYPE=image/png:http://north-gorham.lib.me.us/wp-content/uploads/2024/11/Fair-poster-2024.png
END:VEVENT
BEGIN:VEVENT
DTSTART;TZID=America/New_York:20241211T103000
DTEND;TZID=America/New_York:20241211T113000
DTSTAMP:20260423T101332
CREATED:20241209T202645Z
LAST-MODIFIED:20241209T202647Z
UID:3428-1733913000-1733916600@north-gorham.lib.me.us
SUMMARY:Story Hour
DESCRIPTION:Paula will read Red and Lulu\, a book about two birds that are displaced and separated when the tree they were living in is cut down for a Christmas tree. We’ll sing some songs and make our own decorated trees. On Wednesday\, December 11\, from 10:30 to 11:30.
URL:http://north-gorham.lib.me.us/event/story-hour-42/
ATTACH;FMTTYPE=image/jpeg:http://north-gorham.lib.me.us/wp-content/uploads/2024/12/IMG_6971.jpeg
END:VEVENT
BEGIN:VEVENT
DTSTART;TZID=America/New_York:20241218T103000
DTEND;TZID=America/New_York:20241218T113000
DTSTAMP:20260423T101332
CREATED:20241217T013544Z
LAST-MODIFIED:20241217T013649Z
UID:3434-1734517800-1734521400@north-gorham.lib.me.us
SUMMARY:Story Hour
DESCRIPTION:Story Hour is all about Rudolph this week! Paula says they’ll read about him\, sing his song\, and make a tree ornament. They’ll also have some tasty snacks before leaving 2024 behind. Join the fun — ho\, ho\, ho! Wednesday\, December 18 from 10:30 to 11:30. (The last Story Hour until Jan. 8).
URL:http://north-gorham.lib.me.us/event/story-hour-43/
ATTACH;FMTTYPE=image/jpeg:http://north-gorham.lib.me.us/wp-content/uploads/2024/12/IMG_7017.jpeg
END:VEVENT
BEGIN:VEVENT
DTSTART;TZID=America/New_York:20241225T080000
DTEND;TZID=America/New_York:20241225T170000
DTSTAMP:20260423T101332
CREATED:20241224T161516Z
LAST-MODIFIED:20241224T161517Z
UID:3443-1735113600-1735146000@north-gorham.lib.me.us
SUMMARY:Closed/No Story Hour
DESCRIPTION:
URL:http://north-gorham.lib.me.us/event/closed-no-story-hour/
ATTACH;FMTTYPE=image/png:http://north-gorham.lib.me.us/wp-content/uploads/2024/12/Holiday-Hours.png
END:VEVENT
END:VCALENDAR