BEGIN:VCALENDAR
VERSION:2.0
PRODID:-//North Gorham Public Library - ECPv6.15.20//NONSGML v1.0//EN
CALSCALE:GREGORIAN
METHOD:PUBLISH
X-WR-CALNAME:North Gorham Public Library
X-ORIGINAL-URL:http://north-gorham.lib.me.us
X-WR-CALDESC:Events for North Gorham Public Library
REFRESH-INTERVAL;VALUE=DURATION:PT1H
X-Robots-Tag:noindex
X-PUBLISHED-TTL:PT1H
BEGIN:VTIMEZONE
TZID:America/New_York
BEGIN:DAYLIGHT
TZOFFSETFROM:-0500
TZOFFSETTO:-0400
TZNAME:EDT
DTSTART:20230312T070000
END:DAYLIGHT
BEGIN:STANDARD
TZOFFSETFROM:-0400
TZOFFSETTO:-0500
TZNAME:EST
DTSTART:20231105T060000
END:STANDARD
BEGIN:DAYLIGHT
TZOFFSETFROM:-0500
TZOFFSETTO:-0400
TZNAME:EDT
DTSTART:20240310T070000
END:DAYLIGHT
BEGIN:STANDARD
TZOFFSETFROM:-0400
TZOFFSETTO:-0500
TZNAME:EST
DTSTART:20241103T060000
END:STANDARD
BEGIN:DAYLIGHT
TZOFFSETFROM:-0500
TZOFFSETTO:-0400
TZNAME:EDT
DTSTART:20250309T070000
END:DAYLIGHT
BEGIN:STANDARD
TZOFFSETFROM:-0400
TZOFFSETTO:-0500
TZNAME:EST
DTSTART:20251102T060000
END:STANDARD
END:VTIMEZONE
BEGIN:VEVENT
DTSTART;TZID=America/New_York:20241106T103000
DTEND;TZID=America/New_York:20241106T113000
DTSTAMP:20260423T113206
CREATED:20241104T030103Z
LAST-MODIFIED:20241104T030212Z
UID:3362-1730889000-1730892600@north-gorham.lib.me.us
SUMMARY:Story Hour
DESCRIPTION:For Story Hour this week\, Paula will read “Leaf Man” and “Red Leaf\, Yellow Leaf” by Lois Elhert. The children will play “Same or Different” which will give them a chance to look closely at the details of leaves. Finally\, they’ll use dot markers to paint leaves on paper. Leaves\, leaves everywhere\, soon the trees will be all bare! Come play in the leaves on Wednesday\, November 6 from 10:30 to 11:30.
URL:http://north-gorham.lib.me.us/event/story-hour-37/
ATTACH;FMTTYPE=image/jpeg:http://north-gorham.lib.me.us/wp-content/uploads/2024/11/IMG_6826.jpeg
END:VEVENT
BEGIN:VEVENT
DTSTART;TZID=America/New_York:20241111T000000
DTEND;TZID=America/New_York:20241111T235959
DTSTAMP:20260423T113206
CREATED:20241109T190702Z
LAST-MODIFIED:20241109T190953Z
UID:3373-1731283200-1731369599@north-gorham.lib.me.us
SUMMARY:Veterans Day/Closed
DESCRIPTION:
URL:http://north-gorham.lib.me.us/event/veterans-day/
END:VEVENT
BEGIN:VEVENT
DTSTART;TZID=America/New_York:20241113T103000
DTEND;TZID=America/New_York:20241113T113000
DTSTAMP:20260423T113206
CREATED:20241112T180039Z
LAST-MODIFIED:20241112T180100Z
UID:3388-1731493800-1731497400@north-gorham.lib.me.us
SUMMARY:Story Hour
DESCRIPTION:Why is this frog jumping? At Story Hour this week\, Paula says they’ll read and sing about frogs and do some jumping. Then\, there’ll be some coloring\, which everyone always loves! Don’t miss Story Hour this Wednesday\, November 13 from 10:30 to 11:30.
URL:http://north-gorham.lib.me.us/event/story-hour-38/
ATTACH;FMTTYPE=image/jpeg:http://north-gorham.lib.me.us/wp-content/uploads/2024/11/IMG_6931-2.jpeg
END:VEVENT
BEGIN:VEVENT
DTSTART;TZID=America/New_York:20241120T103000
DTEND;TZID=America/New_York:20241120T113000
DTSTAMP:20260423T113206
CREATED:20241117T231108Z
LAST-MODIFIED:20241117T231113Z
UID:3401-1732098600-1732102200@north-gorham.lib.me.us
SUMMARY:Story Hour
DESCRIPTION:What are you thankful for? That’s the question Paula will be asking at Story Hour this week before and after reading Thanksgiving is for Giving Thanks by Margaret Sutherland. Then\, adults can help children trace their hands to make outlines of turkeys. Kids can paint them using sponge brushes and pouncers\, then decorate their turkeys with feathers. We’ll have extra paint and paper so kids can blend colors and experiment! Wearing old clothes is recommended\, although the paint is washable. We’re going to have some 🤩 fun! Wednesday\, November 20 from 10:30 to 11:30.
URL:http://north-gorham.lib.me.us/event/story-hour-39/
ATTACH;FMTTYPE=image/jpeg:http://north-gorham.lib.me.us/wp-content/uploads/2024/11/IMG_6935.jpeg
END:VEVENT
BEGIN:VEVENT
DTSTART;TZID=America/New_York:20241125T110000
DTEND;TZID=America/New_York:20241125T120000
DTSTAMP:20260423T113206
CREATED:20241115T135746Z
LAST-MODIFIED:20241115T135748Z
UID:3396-1732532400-1732536000@north-gorham.lib.me.us
SUMMARY:Book Club
DESCRIPTION:
URL:http://north-gorham.lib.me.us/event/book-club-6/
END:VEVENT
BEGIN:VEVENT
DTSTART;TZID=America/New_York:20241127T103000
DTEND;TZID=America/New_York:20241127T113000
DTSTAMP:20260423T113206
CREATED:20241126T165816Z
LAST-MODIFIED:20241126T165818Z
UID:3411-1732703400-1732707000@north-gorham.lib.me.us
SUMMARY:Story Hour
DESCRIPTION:For Story Hour this week\, Pig and Zig need to learn how to share. “Let’s read to find out if they can\,” says Paula. The children will also make and glue down the dogs and draw some toys for them. Story Hour is Wednesday\, November 27\, from 10:30 to 11:30.
URL:http://north-gorham.lib.me.us/event/story-hour-40/
ATTACH;FMTTYPE=image/jpeg:http://north-gorham.lib.me.us/wp-content/uploads/2024/11/IMG_6954.jpeg
END:VEVENT
END:VCALENDAR