BEGIN:VCALENDAR
VERSION:2.0
PRODID:-//North Gorham Public Library - ECPv6.15.20//NONSGML v1.0//EN
CALSCALE:GREGORIAN
METHOD:PUBLISH
X-WR-CALNAME:North Gorham Public Library
X-ORIGINAL-URL:http://north-gorham.lib.me.us
X-WR-CALDESC:Events for North Gorham Public Library
REFRESH-INTERVAL;VALUE=DURATION:PT1H
X-Robots-Tag:noindex
X-PUBLISHED-TTL:PT1H
BEGIN:VTIMEZONE
TZID:America/New_York
BEGIN:DAYLIGHT
TZOFFSETFROM:-0500
TZOFFSETTO:-0400
TZNAME:EDT
DTSTART:20230312T070000
END:DAYLIGHT
BEGIN:STANDARD
TZOFFSETFROM:-0400
TZOFFSETTO:-0500
TZNAME:EST
DTSTART:20231105T060000
END:STANDARD
BEGIN:DAYLIGHT
TZOFFSETFROM:-0500
TZOFFSETTO:-0400
TZNAME:EDT
DTSTART:20240310T070000
END:DAYLIGHT
BEGIN:STANDARD
TZOFFSETFROM:-0400
TZOFFSETTO:-0500
TZNAME:EST
DTSTART:20241103T060000
END:STANDARD
BEGIN:DAYLIGHT
TZOFFSETFROM:-0500
TZOFFSETTO:-0400
TZNAME:EDT
DTSTART:20250309T070000
END:DAYLIGHT
BEGIN:STANDARD
TZOFFSETFROM:-0400
TZOFFSETTO:-0500
TZNAME:EST
DTSTART:20251102T060000
END:STANDARD
END:VTIMEZONE
BEGIN:VEVENT
DTSTART;TZID=America/New_York:20241002T103000
DTEND;TZID=America/New_York:20241002T113000
DTSTAMP:20260423T125627
CREATED:20240929T230152Z
LAST-MODIFIED:20240929T230156Z
UID:3295-1727865000-1727868600@north-gorham.lib.me.us
SUMMARY:Story Hour
DESCRIPTION:This week Paula will read the story of Bob\, a mixed-up rooster learning how to crow. Then the children will trace their hands and do some gluing to make their own roosters. Paula is sure they’ll be able to teach them to crow. Cock-a-doodle-do!!
URL:http://north-gorham.lib.me.us/event/story-hour-32/
ATTACH;FMTTYPE=image/jpeg:http://north-gorham.lib.me.us/wp-content/uploads/2024/09/Bob-the-rooster.jpg
END:VEVENT
BEGIN:VEVENT
DTSTART;TZID=America/New_York:20241003T183000
DTEND;TZID=America/New_York:20241003T203000
DTSTAMP:20260423T125627
CREATED:20240929T230417Z
LAST-MODIFIED:20240929T230419Z
UID:3298-1727980200-1727987400@north-gorham.lib.me.us
SUMMARY:Annual Board Meeting
DESCRIPTION:The public is invited to attend
URL:http://north-gorham.lib.me.us/event/annual-board-meeting/
END:VEVENT
BEGIN:VEVENT
DTSTART;TZID=America/New_York:20241009T103000
DTEND;TZID=America/New_York:20241009T113000
DTSTAMP:20260423T125627
CREATED:20241006T184821Z
LAST-MODIFIED:20241006T184822Z
UID:3323-1728469800-1728473400@north-gorham.lib.me.us
SUMMARY:Story Hour
DESCRIPTION:Paula will read Little Loon and Papa for Story Hour this week. She says everyone will have a fun and yummy time making loons out of construction paper. Look closely at the loon in the picture and see why it will be yummy. Those white dots weren’t made with a marker! \n\n\n\nStory Hour and North Gorham Public Library. Wednesday morning\, October 9 from 10:30 to 11:30.
URL:http://north-gorham.lib.me.us/event/story-hour-33/
ATTACH;FMTTYPE=image/jpeg:http://north-gorham.lib.me.us/wp-content/uploads/2024/10/Loon-book.jpeg
END:VEVENT
BEGIN:VEVENT
DTSTART;TZID=America/New_York:20241010T183000
DTEND;TZID=America/New_York:20241010T203000
DTSTAMP:20260423T125627
CREATED:20240929T230629Z
LAST-MODIFIED:20241004T132609Z
UID:3301-1728585000-1728592200@north-gorham.lib.me.us
SUMMARY:Candidate's Forum
DESCRIPTION:
URL:http://north-gorham.lib.me.us/event/candidates-forum/
ATTACH;FMTTYPE=image/png:http://north-gorham.lib.me.us/wp-content/uploads/2024/09/Meet-Candidates-101024-poster.png
END:VEVENT
BEGIN:VEVENT
DTSTART;TZID=America/New_York:20241016T103000
DTEND;TZID=America/New_York:20241016T113000
DTSTAMP:20260423T125627
CREATED:20241016T014629Z
LAST-MODIFIED:20241016T014631Z
UID:3330-1729074600-1729078200@north-gorham.lib.me.us
SUMMARY:Story Hour
DESCRIPTION:For this week’s Story Hour\, Paula will tell a story about pumpkins called “The Little Orange House”. Then she will use her story glove to tell about “Five Little Pumpkins”. The children will get to act out that story\, and then paste some faces on orange paper pumpkins. Join the fun on Wednesday\, October 16 from 10:30 to 11:30.
URL:http://north-gorham.lib.me.us/event/story-hour-34/
ATTACH;FMTTYPE=image/jpeg:http://north-gorham.lib.me.us/wp-content/uploads/2024/10/IMG_6798.jpeg
END:VEVENT
BEGIN:VEVENT
DTSTART;TZID=America/New_York:20241023T103000
DTEND;TZID=America/New_York:20241023T113000
DTSTAMP:20260423T125627
CREATED:20241022T104809Z
LAST-MODIFIED:20241022T104813Z
UID:3349-1729679400-1729683000@north-gorham.lib.me.us
SUMMARY:Story Hour
DESCRIPTION:For Story Hour this week\, Paula will read Witch\, Witch Come to My Party and everyone will decorate some witch party hats. They’ll also talk about costumes and what the children plan to wear on Halloween! Join the fun on Wednesday\, October 23 from 10:30 to 11:30.
URL:http://north-gorham.lib.me.us/event/story-hour-35/
ATTACH;FMTTYPE=image/jpeg:http://north-gorham.lib.me.us/wp-content/uploads/2024/10/IMG_6807.jpeg
END:VEVENT
BEGIN:VEVENT
DTSTART;TZID=America/New_York:20241023T190000
DTEND;TZID=America/New_York:20241023T210000
DTSTAMP:20260423T125627
CREATED:20241006T182325Z
LAST-MODIFIED:20241006T182329Z
UID:3315-1729710000-1729717200@north-gorham.lib.me.us
SUMMARY:Prose & Poetry Reading
DESCRIPTION:Attend a free hour-long reading of original works by local authors in the library on Wednesday\, Oct. 23\, 2024\, at 7:00 pm. Refreshments will be served. \n\n\n\nThe group\, Women Who Write\, meets every two weeks at the library where they workshop their writing with their peers. The group includes Lynne Mentzer\, Cheri Wing-Jones\, Mary Snell of Gorham; Carolyn Gaul of Windham; and Annie Boissevain of Gray. \n\n\n\nThey will read stories\, poems\, and other works developed during the two years they have been working together. Mark your calendar! Wednesday\, October 23 at 7 pm in the library.
URL:http://north-gorham.lib.me.us/event/prose-poetry-reading-2/
ATTACH;FMTTYPE=image/jpeg:http://north-gorham.lib.me.us/wp-content/uploads/2024/10/Women-Who-Write.jpg
END:VEVENT
BEGIN:VEVENT
DTSTART;TZID=America/New_York:20241028T110000
DTEND;TZID=America/New_York:20241028T120000
DTSTAMP:20260423T125627
CREATED:20241014T214041Z
LAST-MODIFIED:20241017T140812Z
UID:3327-1730113200-1730116800@north-gorham.lib.me.us
SUMMARY:Book Club
DESCRIPTION:For Book Club this month\, the group is reading Evvie Drake Starts Over by Linda Holmes. We have some copies at the library if you need one.  \n\n\n\nBook Club will meet at the North Gorham Public Library on Monday\, October 28 from 11:00 to noon. You’re welcome to join the discussion even if you haven’t had a chance to read the book.  \n\n\n\n\n\n\n\n\nA heartfelt debut about the unlikely relationship between a young woman who’s lost her husband and a major league pitcher who’s lost his game. \n\n\n\nIn a sleepy seaside town in Maine\, recently widowed Eveleth “Evvie” Drake rarely leaves her large\, painfully empty house nearly a year after her husband’s death in a car crash. Everyone in town\, even her best friend\, Andy\, thinks grief keeps her locked inside\, and Evvie doesn’t correct them. \n\n\n\nMeanwhile\, in New York City\, Dean Tenney\, former Major League pitcher and Andy’s childhood best friend\, is wrestling with what miserable athletes living out their worst nightmares call the “yips”: he can’t throw straight anymore\, and\, even worse\, he can’t figure out why. As the media storm heats up\, an invitation from Andy to stay in Maine seems like the perfect chance to hit the reset button on Dean’s future. \nPenguin Books
URL:http://north-gorham.lib.me.us/event/book-club-5/
ATTACH;FMTTYPE=image/png:http://north-gorham.lib.me.us/wp-content/uploads/2024/10/Screen-Shot-2024-10-17-at-9.57.26-AM.png
END:VEVENT
BEGIN:VEVENT
DTSTART;TZID=America/New_York:20241030T103000
DTEND;TZID=America/New_York:20241030T113000
DTSTAMP:20260423T125627
CREATED:20241028T012359Z
LAST-MODIFIED:20241028T012403Z
UID:3356-1730284200-1730287800@north-gorham.lib.me.us
SUMMARY:Story Hour
DESCRIPTION:It’s a Halloween celebration at Story Hour this week! Paula says she’s got some Halloween books to read and songs to sing. The children will paint a little white ghost and have some tasty snacks. They can wear their Halloween costume if they’d like. No scary masks\, please. Happy Halloween!
URL:http://north-gorham.lib.me.us/event/story-hour-36/
ATTACH;FMTTYPE=image/jpeg:http://north-gorham.lib.me.us/wp-content/uploads/2024/10/IMG_6815-1.jpeg
END:VEVENT
END:VCALENDAR