BEGIN:VCALENDAR
VERSION:2.0
PRODID:-//North Gorham Public Library - ECPv6.15.20//NONSGML v1.0//EN
CALSCALE:GREGORIAN
METHOD:PUBLISH
X-WR-CALNAME:North Gorham Public Library
X-ORIGINAL-URL:http://north-gorham.lib.me.us
X-WR-CALDESC:Events for North Gorham Public Library
REFRESH-INTERVAL;VALUE=DURATION:PT1H
X-Robots-Tag:noindex
X-PUBLISHED-TTL:PT1H
BEGIN:VTIMEZONE
TZID:America/New_York
BEGIN:DAYLIGHT
TZOFFSETFROM:-0500
TZOFFSETTO:-0400
TZNAME:EDT
DTSTART:20230312T070000
END:DAYLIGHT
BEGIN:STANDARD
TZOFFSETFROM:-0400
TZOFFSETTO:-0500
TZNAME:EST
DTSTART:20231105T060000
END:STANDARD
BEGIN:DAYLIGHT
TZOFFSETFROM:-0500
TZOFFSETTO:-0400
TZNAME:EDT
DTSTART:20240310T070000
END:DAYLIGHT
BEGIN:STANDARD
TZOFFSETFROM:-0400
TZOFFSETTO:-0500
TZNAME:EST
DTSTART:20241103T060000
END:STANDARD
BEGIN:DAYLIGHT
TZOFFSETFROM:-0500
TZOFFSETTO:-0400
TZNAME:EDT
DTSTART:20250309T070000
END:DAYLIGHT
BEGIN:STANDARD
TZOFFSETFROM:-0400
TZOFFSETTO:-0500
TZNAME:EST
DTSTART:20251102T060000
END:STANDARD
END:VTIMEZONE
BEGIN:VEVENT
DTSTART;TZID=America/New_York:20240902T000000
DTEND;TZID=America/New_York:20240902T235959
DTSTAMP:20260423T141713
CREATED:20240828T021430Z
LAST-MODIFIED:20240828T021655Z
UID:3242-1725235200-1725321599@north-gorham.lib.me.us
SUMMARY:Labor Day/Closed
DESCRIPTION:
URL:http://north-gorham.lib.me.us/event/labor-day/
END:VEVENT
BEGIN:VEVENT
DTSTART;TZID=America/New_York:20240904T103000
DTEND;TZID=America/New_York:20240904T113000
DTSTAMP:20260423T141713
CREATED:20240903T125725Z
LAST-MODIFIED:20240908T141414Z
UID:3260-1725445800-1725449400@north-gorham.lib.me.us
SUMMARY:Story Hour
DESCRIPTION:For Story Hour this week\, Paula says they will read and “act out” the songbook Fiddle-I-Fee by Melissa Sweet. Then they’ll break out the crayons and color pages of some of the animals in the book. Join the fun on Wednesday\, September 4 from 10:30 to 11:30.
URL:http://north-gorham.lib.me.us/event/story-hour-september-4/
ATTACH;FMTTYPE=image/jpeg:http://north-gorham.lib.me.us/wp-content/uploads/2024/09/Fiddle-I-Fe.jpg
END:VEVENT
BEGIN:VEVENT
DTSTART;TZID=America/New_York:20240911T103000
DTEND;TZID=America/New_York:20240911T113000
DTSTAMP:20260423T141713
CREATED:20240908T141331Z
LAST-MODIFIED:20240908T141335Z
UID:3273-1726050600-1726054200@north-gorham.lib.me.us
SUMMARY:Story Hour
DESCRIPTION:Wednesday\, Paula will read Shape Capers by Cathryn Falwell and they’ll glue shapes onto paper to make some fun designs. They’ll also go on a scavenger hunt to find shapes around the library and the children will try to identify the shapes of objects Paula has put in the purple shapes box. Be there or be square (or round or whatever!) Wednesday\, September 11 from 10:30 to 11:30.
URL:http://north-gorham.lib.me.us/event/story-hour-28/
ATTACH;FMTTYPE=image/jpeg:http://north-gorham.lib.me.us/wp-content/uploads/2024/09/IMG_6621-1.jpeg
END:VEVENT
BEGIN:VEVENT
DTSTART;TZID=America/New_York:20240918T103000
DTEND;TZID=America/New_York:20240918T113000
DTSTAMP:20260423T141713
CREATED:20240917T174021Z
LAST-MODIFIED:20240917T174025Z
UID:3282-1726655400-1726659000@north-gorham.lib.me.us
SUMMARY:Story Hour
DESCRIPTION:For Story Hour at the library this week\, Paula says they will read about the concepts of floating and sinking. And then they’ll find out for themselves what floats and what sinks! That sounds like fun! This Wednesday\, September 18 from 10:30 to 11:30.
URL:http://north-gorham.lib.me.us/event/story-hour-30/
ATTACH;FMTTYPE=image/jpeg:http://north-gorham.lib.me.us/wp-content/uploads/2024/09/Story-Hour-918.jpg
END:VEVENT
BEGIN:VEVENT
DTSTART;TZID=America/New_York:20240925T103000
DTEND;TZID=America/New_York:20240925T113000
DTSTAMP:20260423T141713
CREATED:20240924T180129Z
LAST-MODIFIED:20240924T180249Z
UID:3288-1727260200-1727263800@north-gorham.lib.me.us
SUMMARY:Story Hour
DESCRIPTION:For this week’s Story Hour\, Paula will read The Little Old Lady Who Was Not Afraid of Anything by Linda Williams. Using a flannel board\, the kids will get to make a scarecrow as the story progresses. There’ll be stomping and clomping\, shaking\, and wiggling involved\, so it should be fun! After the story\, everyone will color their own scarecrow to take home.
URL:http://north-gorham.lib.me.us/event/story-hour-31/
ATTACH;FMTTYPE=image/jpeg:http://north-gorham.lib.me.us/wp-content/uploads/2024/09/IMG_6667.jpeg
END:VEVENT
BEGIN:VEVENT
DTSTART;TZID=America/New_York:20240930T110000
DTEND;TZID=America/New_York:20240930T120000
DTSTAMP:20260423T141713
CREATED:20240908T141529Z
LAST-MODIFIED:20240908T141530Z
UID:3276-1727694000-1727697600@north-gorham.lib.me.us
SUMMARY:Book Club
DESCRIPTION:
URL:http://north-gorham.lib.me.us/event/book-club-3/
END:VEVENT
END:VCALENDAR