BEGIN:VCALENDAR
VERSION:2.0
PRODID:-//North Gorham Public Library - ECPv6.15.20//NONSGML v1.0//EN
CALSCALE:GREGORIAN
METHOD:PUBLISH
X-ORIGINAL-URL:http://north-gorham.lib.me.us
X-WR-CALDESC:Events for North Gorham Public Library
REFRESH-INTERVAL;VALUE=DURATION:PT1H
X-Robots-Tag:noindex
X-PUBLISHED-TTL:PT1H
BEGIN:VTIMEZONE
TZID:America/New_York
BEGIN:DAYLIGHT
TZOFFSETFROM:-0500
TZOFFSETTO:-0400
TZNAME:EDT
DTSTART:20250309T070000
END:DAYLIGHT
BEGIN:STANDARD
TZOFFSETFROM:-0400
TZOFFSETTO:-0500
TZNAME:EST
DTSTART:20251102T060000
END:STANDARD
BEGIN:DAYLIGHT
TZOFFSETFROM:-0500
TZOFFSETTO:-0400
TZNAME:EDT
DTSTART:20260308T070000
END:DAYLIGHT
BEGIN:STANDARD
TZOFFSETFROM:-0400
TZOFFSETTO:-0500
TZNAME:EST
DTSTART:20261101T060000
END:STANDARD
BEGIN:DAYLIGHT
TZOFFSETFROM:-0500
TZOFFSETTO:-0400
TZNAME:EDT
DTSTART:20270314T070000
END:DAYLIGHT
BEGIN:STANDARD
TZOFFSETFROM:-0400
TZOFFSETTO:-0500
TZNAME:EST
DTSTART:20271107T060000
END:STANDARD
END:VTIMEZONE
BEGIN:VEVENT
DTSTART;TZID=America/New_York:20260211T103000
DTEND;TZID=America/New_York:20260211T113000
DTSTAMP:20260422T111918
CREATED:20260209T162200Z
LAST-MODIFIED:20260209T162205Z
UID:4206-1770805800-1770809400@north-gorham.lib.me.us
SUMMARY:Story Hour
DESCRIPTION:This week at Story Hour\, Claire will read Little Hearts. After\, everyone will get to make Valentine cards with ribbon\, heart-shaped doilies\, gems\, stickers\, and crayons. Happy Valentine’s Day!
URL:http://north-gorham.lib.me.us/event/story-hour-90/
ATTACH;FMTTYPE=image/jpeg:http://north-gorham.lib.me.us/wp-content/uploads/2026/02/IMG_3135.jpeg
END:VEVENT
END:VCALENDAR