BEGIN:VCALENDAR
VERSION:2.0
PRODID:-//North Gorham Public Library - ECPv6.15.20//NONSGML v1.0//EN
CALSCALE:GREGORIAN
METHOD:PUBLISH
X-ORIGINAL-URL:http://north-gorham.lib.me.us
X-WR-CALDESC:Events for North Gorham Public Library
REFRESH-INTERVAL;VALUE=DURATION:PT1H
X-Robots-Tag:noindex
X-PUBLISHED-TTL:PT1H
BEGIN:VTIMEZONE
TZID:America/New_York
BEGIN:DAYLIGHT
TZOFFSETFROM:-0500
TZOFFSETTO:-0400
TZNAME:EDT
DTSTART:20240310T070000
END:DAYLIGHT
BEGIN:STANDARD
TZOFFSETFROM:-0400
TZOFFSETTO:-0500
TZNAME:EST
DTSTART:20241103T060000
END:STANDARD
BEGIN:DAYLIGHT
TZOFFSETFROM:-0500
TZOFFSETTO:-0400
TZNAME:EDT
DTSTART:20250309T070000
END:DAYLIGHT
BEGIN:STANDARD
TZOFFSETFROM:-0400
TZOFFSETTO:-0500
TZNAME:EST
DTSTART:20251102T060000
END:STANDARD
BEGIN:DAYLIGHT
TZOFFSETFROM:-0500
TZOFFSETTO:-0400
TZNAME:EDT
DTSTART:20260308T070000
END:DAYLIGHT
BEGIN:STANDARD
TZOFFSETFROM:-0400
TZOFFSETTO:-0500
TZNAME:EST
DTSTART:20261101T060000
END:STANDARD
END:VTIMEZONE
BEGIN:VEVENT
DTSTART;TZID=America/New_York:20251225T000000
DTEND;TZID=America/New_York:20251225T235959
DTSTAMP:20260422T180531
CREATED:20251225T145746Z
LAST-MODIFIED:20251225T145748Z
UID:4123-1766620800-1766707199@north-gorham.lib.me.us
SUMMARY:Merry Christmas!
DESCRIPTION:
URL:http://north-gorham.lib.me.us/event/merry-christmas-3/
ATTACH;FMTTYPE=image/png:http://north-gorham.lib.me.us/wp-content/uploads/2025/12/Friends-at-NGPL-Ho-Ho-Ho-1.png
END:VEVENT
END:VCALENDAR