BEGIN:VCALENDAR
VERSION:2.0
PRODID:-//North Gorham Public Library - ECPv6.15.20//NONSGML v1.0//EN
CALSCALE:GREGORIAN
METHOD:PUBLISH
X-WR-CALNAME:North Gorham Public Library
X-ORIGINAL-URL:http://north-gorham.lib.me.us
X-WR-CALDESC:Events for North Gorham Public Library
REFRESH-INTERVAL;VALUE=DURATION:PT1H
X-Robots-Tag:noindex
X-PUBLISHED-TTL:PT1H
BEGIN:VTIMEZONE
TZID:America/New_York
BEGIN:DAYLIGHT
TZOFFSETFROM:-0500
TZOFFSETTO:-0400
TZNAME:EDT
DTSTART:20240310T070000
END:DAYLIGHT
BEGIN:STANDARD
TZOFFSETFROM:-0400
TZOFFSETTO:-0500
TZNAME:EST
DTSTART:20241103T060000
END:STANDARD
BEGIN:DAYLIGHT
TZOFFSETFROM:-0500
TZOFFSETTO:-0400
TZNAME:EDT
DTSTART:20250309T070000
END:DAYLIGHT
BEGIN:STANDARD
TZOFFSETFROM:-0400
TZOFFSETTO:-0500
TZNAME:EST
DTSTART:20251102T060000
END:STANDARD
BEGIN:DAYLIGHT
TZOFFSETFROM:-0500
TZOFFSETTO:-0400
TZNAME:EDT
DTSTART:20260308T070000
END:DAYLIGHT
BEGIN:STANDARD
TZOFFSETFROM:-0400
TZOFFSETTO:-0500
TZNAME:EST
DTSTART:20261101T060000
END:STANDARD
END:VTIMEZONE
BEGIN:VEVENT
DTSTART;TZID=America/New_York:20250903T103000
DTEND;TZID=America/New_York:20250903T113000
DTSTAMP:20260422T224137
CREATED:20250903T135846Z
LAST-MODIFIED:20250903T135848Z
UID:3915-1756895400-1756899000@north-gorham.lib.me.us
SUMMARY:Story Hour
DESCRIPTION:Today\, we welcome Claire Steeves from Standish as the new leader of our weekly Story Hour!! She’ll be reading The Rainbow Fish by Marcus Pfister. After\, the children will get to decorate their own Rainbow Fish. We hope you can make it and help us give a warm welcome to Claire. She’s a fairly recently retired grandmother whose grandchildren live too far for her to read to them all the time\, and she says she loves reading stories to children! Story Hour is today\, and every Wednesday morning from 10:30 to 11:30 at the North Gorham Public Library at 2 Standish Neck Road in North Gorham.
URL:http://north-gorham.lib.me.us/event/story-hour-73/
ATTACH;FMTTYPE=image/png:http://north-gorham.lib.me.us/wp-content/uploads/2025/09/Screen-Shot-2025-09-03-at-9.47.45-AM.png
END:VEVENT
END:VCALENDAR