BEGIN:VCALENDAR
VERSION:2.0
PRODID:-//North Gorham Public Library - ECPv6.15.20//NONSGML v1.0//EN
CALSCALE:GREGORIAN
METHOD:PUBLISH
X-WR-CALNAME:North Gorham Public Library
X-ORIGINAL-URL:http://north-gorham.lib.me.us
X-WR-CALDESC:Events for North Gorham Public Library
REFRESH-INTERVAL;VALUE=DURATION:PT1H
X-Robots-Tag:noindex
X-PUBLISHED-TTL:PT1H
BEGIN:VTIMEZONE
TZID:America/New_York
BEGIN:DAYLIGHT
TZOFFSETFROM:-0500
TZOFFSETTO:-0400
TZNAME:EDT
DTSTART:20240310T070000
END:DAYLIGHT
BEGIN:STANDARD
TZOFFSETFROM:-0400
TZOFFSETTO:-0500
TZNAME:EST
DTSTART:20241103T060000
END:STANDARD
BEGIN:DAYLIGHT
TZOFFSETFROM:-0500
TZOFFSETTO:-0400
TZNAME:EDT
DTSTART:20250309T070000
END:DAYLIGHT
BEGIN:STANDARD
TZOFFSETFROM:-0400
TZOFFSETTO:-0500
TZNAME:EST
DTSTART:20251102T060000
END:STANDARD
BEGIN:DAYLIGHT
TZOFFSETFROM:-0500
TZOFFSETTO:-0400
TZNAME:EDT
DTSTART:20260308T070000
END:DAYLIGHT
BEGIN:STANDARD
TZOFFSETFROM:-0400
TZOFFSETTO:-0500
TZNAME:EST
DTSTART:20261101T060000
END:STANDARD
END:VTIMEZONE
BEGIN:VEVENT
DTSTART;TZID=America/New_York:20250129T103000
DTEND;TZID=America/New_York:20250129T113000
DTSTAMP:20260423T084116
CREATED:20250127T201247Z
LAST-MODIFIED:20250127T201250Z
UID:3510-1738146600-1738150200@north-gorham.lib.me.us
SUMMARY:Story Hour
DESCRIPTION:Snow and winter fun. That’s what Paula will be reading about at this week’s Story Hour. And instead of going outside to pack and roll snow into snowmen\, the children will stay inside where it’s warm and cozy and get creative with cotton balls. Let it snow\, let it snow\, let it snow! Wednesday\, January 29 from 10:30 to 11:30.
URL:http://north-gorham.lib.me.us/event/story-hour-47/
ATTACH;FMTTYPE=image/jpeg:http://north-gorham.lib.me.us/wp-content/uploads/2025/01/Snow-Winter.jpeg
END:VEVENT
END:VCALENDAR