BEGIN:VCALENDAR
VERSION:2.0
PRODID:-//North Gorham Public Library - ECPv6.15.20//NONSGML v1.0//EN
CALSCALE:GREGORIAN
METHOD:PUBLISH
X-WR-CALNAME:North Gorham Public Library
X-ORIGINAL-URL:http://north-gorham.lib.me.us
X-WR-CALDESC:Events for North Gorham Public Library
REFRESH-INTERVAL;VALUE=DURATION:PT1H
X-Robots-Tag:noindex
X-PUBLISHED-TTL:PT1H
BEGIN:VTIMEZONE
TZID:America/New_York
BEGIN:DAYLIGHT
TZOFFSETFROM:-0500
TZOFFSETTO:-0400
TZNAME:EDT
DTSTART:20240310T070000
END:DAYLIGHT
BEGIN:STANDARD
TZOFFSETFROM:-0400
TZOFFSETTO:-0500
TZNAME:EST
DTSTART:20241103T060000
END:STANDARD
BEGIN:DAYLIGHT
TZOFFSETFROM:-0500
TZOFFSETTO:-0400
TZNAME:EDT
DTSTART:20250309T070000
END:DAYLIGHT
BEGIN:STANDARD
TZOFFSETFROM:-0400
TZOFFSETTO:-0500
TZNAME:EST
DTSTART:20251102T060000
END:STANDARD
BEGIN:DAYLIGHT
TZOFFSETFROM:-0500
TZOFFSETTO:-0400
TZNAME:EDT
DTSTART:20260308T070000
END:DAYLIGHT
BEGIN:STANDARD
TZOFFSETFROM:-0400
TZOFFSETTO:-0500
TZNAME:EST
DTSTART:20261101T060000
END:STANDARD
END:VTIMEZONE
BEGIN:VEVENT
DTSTART;TZID=America/New_York:20250127T110000
DTEND;TZID=America/New_York:20250127T120000
DTSTAMP:20260423T084201
CREATED:20250107T181215Z
LAST-MODIFIED:20250107T181217Z
UID:3477-1737975600-1737979200@north-gorham.lib.me.us
SUMMARY:Book Club
DESCRIPTION:For Book Club this month\, the group is reading Any Bitter Thing by Monica Wood. Whether you read the book or not\, you’re welcome to join the Club. The next Book Club will meet at the North Gorham Public Library on Monday\, January  27 from 11:00 to noon.
URL:http://north-gorham.lib.me.us/event/book-club-7-2/
ATTACH;FMTTYPE=image/png:http://north-gorham.lib.me.us/wp-content/uploads/2025/01/Monica-Wood-cropped.png
END:VEVENT
END:VCALENDAR