BEGIN:VCALENDAR
VERSION:2.0
PRODID:-//North Gorham Public Library - ECPv6.15.20//NONSGML v1.0//EN
CALSCALE:GREGORIAN
METHOD:PUBLISH
X-ORIGINAL-URL:http://north-gorham.lib.me.us
X-WR-CALDESC:Events for North Gorham Public Library
REFRESH-INTERVAL;VALUE=DURATION:PT1H
X-Robots-Tag:noindex
X-PUBLISHED-TTL:PT1H
BEGIN:VTIMEZONE
TZID:America/New_York
BEGIN:DAYLIGHT
TZOFFSETFROM:-0500
TZOFFSETTO:-0400
TZNAME:EDT
DTSTART:20230312T070000
END:DAYLIGHT
BEGIN:STANDARD
TZOFFSETFROM:-0400
TZOFFSETTO:-0500
TZNAME:EST
DTSTART:20231105T060000
END:STANDARD
BEGIN:DAYLIGHT
TZOFFSETFROM:-0500
TZOFFSETTO:-0400
TZNAME:EDT
DTSTART:20240310T070000
END:DAYLIGHT
BEGIN:STANDARD
TZOFFSETFROM:-0400
TZOFFSETTO:-0500
TZNAME:EST
DTSTART:20241103T060000
END:STANDARD
BEGIN:DAYLIGHT
TZOFFSETFROM:-0500
TZOFFSETTO:-0400
TZNAME:EDT
DTSTART:20250309T070000
END:DAYLIGHT
BEGIN:STANDARD
TZOFFSETFROM:-0400
TZOFFSETTO:-0500
TZNAME:EST
DTSTART:20251102T060000
END:STANDARD
END:VTIMEZONE
BEGIN:VEVENT
DTSTART;TZID=America/New_York:20241120T103000
DTEND;TZID=America/New_York:20241120T113000
DTSTAMP:20260423T125709
CREATED:20241117T231108Z
LAST-MODIFIED:20241117T231113Z
UID:3401-1732098600-1732102200@north-gorham.lib.me.us
SUMMARY:Story Hour
DESCRIPTION:What are you thankful for? That’s the question Paula will be asking at Story Hour this week before and after reading Thanksgiving is for Giving Thanks by Margaret Sutherland. Then\, adults can help children trace their hands to make outlines of turkeys. Kids can paint them using sponge brushes and pouncers\, then decorate their turkeys with feathers. We’ll have extra paint and paper so kids can blend colors and experiment! Wearing old clothes is recommended\, although the paint is washable. We’re going to have some 🤩 fun! Wednesday\, November 20 from 10:30 to 11:30.
URL:http://north-gorham.lib.me.us/event/story-hour-39/
ATTACH;FMTTYPE=image/jpeg:http://north-gorham.lib.me.us/wp-content/uploads/2024/11/IMG_6935.jpeg
END:VEVENT
END:VCALENDAR