BEGIN:VCALENDAR
VERSION:2.0
PRODID:-//North Gorham Public Library - ECPv6.15.20//NONSGML v1.0//EN
CALSCALE:GREGORIAN
METHOD:PUBLISH
X-WR-CALNAME:North Gorham Public Library
X-ORIGINAL-URL:http://north-gorham.lib.me.us
X-WR-CALDESC:Events for North Gorham Public Library
REFRESH-INTERVAL;VALUE=DURATION:PT1H
X-Robots-Tag:noindex
X-PUBLISHED-TTL:PT1H
BEGIN:VTIMEZONE
TZID:America/New_York
BEGIN:DAYLIGHT
TZOFFSETFROM:-0500
TZOFFSETTO:-0400
TZNAME:EDT
DTSTART:20230312T070000
END:DAYLIGHT
BEGIN:STANDARD
TZOFFSETFROM:-0400
TZOFFSETTO:-0500
TZNAME:EST
DTSTART:20231105T060000
END:STANDARD
BEGIN:DAYLIGHT
TZOFFSETFROM:-0500
TZOFFSETTO:-0400
TZNAME:EDT
DTSTART:20240310T070000
END:DAYLIGHT
BEGIN:STANDARD
TZOFFSETFROM:-0400
TZOFFSETTO:-0500
TZNAME:EST
DTSTART:20241103T060000
END:STANDARD
BEGIN:DAYLIGHT
TZOFFSETFROM:-0500
TZOFFSETTO:-0400
TZNAME:EDT
DTSTART:20250309T070000
END:DAYLIGHT
BEGIN:STANDARD
TZOFFSETFROM:-0400
TZOFFSETTO:-0500
TZNAME:EST
DTSTART:20251102T060000
END:STANDARD
END:VTIMEZONE
BEGIN:VEVENT
DTSTART;TZID=America/New_York:20240828T103000
DTEND;TZID=America/New_York:20240828T113000
DTSTAMP:20260423T152919
CREATED:20240828T020630Z
LAST-MODIFIED:20240828T020631Z
UID:3238-1724841000-1724844600@north-gorham.lib.me.us
SUMMARY:Story Hour
DESCRIPTION:Paula is reading Something Special by David McPhail for Story Hour this week and after\, the children will create some special artwork. Join the fun on Wednesday\, August 28 from 10:30 to 11:30.
URL:http://north-gorham.lib.me.us/event/story-hour-29/
ATTACH;FMTTYPE=image/jpeg:http://north-gorham.lib.me.us/wp-content/uploads/2024/08/Something-Special.jpg
END:VEVENT
END:VCALENDAR