BEGIN:VCALENDAR
VERSION:2.0
PRODID:-//North Gorham Public Library - ECPv6.15.20//NONSGML v1.0//EN
CALSCALE:GREGORIAN
METHOD:PUBLISH
X-WR-CALNAME:North Gorham Public Library
X-ORIGINAL-URL:http://north-gorham.lib.me.us
X-WR-CALDESC:Events for North Gorham Public Library
REFRESH-INTERVAL;VALUE=DURATION:PT1H
X-Robots-Tag:noindex
X-PUBLISHED-TTL:PT1H
BEGIN:VTIMEZONE
TZID:America/New_York
BEGIN:DAYLIGHT
TZOFFSETFROM:-0500
TZOFFSETTO:-0400
TZNAME:EDT
DTSTART:20230312T070000
END:DAYLIGHT
BEGIN:STANDARD
TZOFFSETFROM:-0400
TZOFFSETTO:-0500
TZNAME:EST
DTSTART:20231105T060000
END:STANDARD
BEGIN:DAYLIGHT
TZOFFSETFROM:-0500
TZOFFSETTO:-0400
TZNAME:EDT
DTSTART:20240310T070000
END:DAYLIGHT
BEGIN:STANDARD
TZOFFSETFROM:-0400
TZOFFSETTO:-0500
TZNAME:EST
DTSTART:20241103T060000
END:STANDARD
BEGIN:DAYLIGHT
TZOFFSETFROM:-0500
TZOFFSETTO:-0400
TZNAME:EDT
DTSTART:20250309T070000
END:DAYLIGHT
BEGIN:STANDARD
TZOFFSETFROM:-0400
TZOFFSETTO:-0500
TZNAME:EST
DTSTART:20251102T060000
END:STANDARD
END:VTIMEZONE
BEGIN:VEVENT
DTSTART;TZID=America/New_York:20240826T110000
DTEND;TZID=America/New_York:20240826T120000
DTSTAMP:20260423T152917
CREATED:20240803T231758Z
LAST-MODIFIED:20240803T231800Z
UID:3199-1724670000-1724673600@north-gorham.lib.me.us
SUMMARY:Book Club/August 26
DESCRIPTION:We are reading Dear Edward by Ann Napolitano for our next Book Club.  \n\n\n\nDear Edward tells the story of a 12-year-old boy who is the sole survivor of a plane crash that kills all of the other 191 passengers\, including the boy’s family. The novel was partially inspired by the crash of Afriqiyah Airways Flight 771 on May 12\, 2010. The Dial Press published Dear Edward on January 6\, 2020. \n\n\n\nYou are welcome to join us to discuss the book at North Gorham Public Library on Monday\, August 26 from 11 to noon. Join us even if you haven’t read the book.
URL:http://north-gorham.lib.me.us/event/book-club-august-26/
ATTACH;FMTTYPE=image/png:http://north-gorham.lib.me.us/wp-content/uploads/2024/08/Screen-Shot-2024-08-03-at-7.15.35-PM.png
END:VEVENT
END:VCALENDAR