BEGIN:VCALENDAR
VERSION:2.0
PRODID:-//North Gorham Public Library - ECPv6.15.20//NONSGML v1.0//EN
CALSCALE:GREGORIAN
METHOD:PUBLISH
X-ORIGINAL-URL:http://north-gorham.lib.me.us
X-WR-CALDESC:Events for North Gorham Public Library
REFRESH-INTERVAL;VALUE=DURATION:PT1H
X-Robots-Tag:noindex
X-PUBLISHED-TTL:PT1H
BEGIN:VTIMEZONE
TZID:America/New_York
BEGIN:DAYLIGHT
TZOFFSETFROM:-0500
TZOFFSETTO:-0400
TZNAME:EDT
DTSTART:20230312T070000
END:DAYLIGHT
BEGIN:STANDARD
TZOFFSETFROM:-0400
TZOFFSETTO:-0500
TZNAME:EST
DTSTART:20231105T060000
END:STANDARD
BEGIN:DAYLIGHT
TZOFFSETFROM:-0500
TZOFFSETTO:-0400
TZNAME:EDT
DTSTART:20240310T070000
END:DAYLIGHT
BEGIN:STANDARD
TZOFFSETFROM:-0400
TZOFFSETTO:-0500
TZNAME:EST
DTSTART:20241103T060000
END:STANDARD
BEGIN:DAYLIGHT
TZOFFSETFROM:-0500
TZOFFSETTO:-0400
TZNAME:EDT
DTSTART:20250309T070000
END:DAYLIGHT
BEGIN:STANDARD
TZOFFSETFROM:-0400
TZOFFSETTO:-0500
TZNAME:EST
DTSTART:20251102T060000
END:STANDARD
END:VTIMEZONE
BEGIN:VEVENT
DTSTART;TZID=America/New_York:20240722T110000
DTEND;TZID=America/New_York:20240722T120000
DTSTAMP:20260423T175852
CREATED:20240708T143641Z
LAST-MODIFIED:20240708T143643Z
UID:3146-1721646000-1721649600@north-gorham.lib.me.us
SUMMARY:Book Club/July 22
DESCRIPTION:We are reading Hidden Figures by Margot Lee Shetterly for our next Book Club.  \n\n\n\nFrom the publisher: “The phenomenal true story of the black female mathematicians at NASA whose calculations helped fuel some of America’s greatest achievements in space—a powerful\, revelatory history essential to our understanding of race\, discrimination\, and achievement in modern America. The basis for the smash Academy Award-nominated film starring Taraji P. Henson\, Octavia Spencer\, Janelle Monae\, Kirsten Dunst\, and Kevin Costner.” \n\n\n\nAwards\n\n\n\n\nAnisfield-Wolf Award for Nonfiction\n\n\n\nBlack Caucus of American Library Association Best Nonfiction Book\n\n\n\nNAACP Image Award Best Nonfiction Book\n\n\n\nNational Academies of Sciences\, Engineering\, and Medicine Communication Award\n\n\n\n\nYou are welcome to join us to discuss the book at North Gorham Public Library on Monday\, July 22 from 11 to noon. Join us even if you haven’t read the book.
URL:http://north-gorham.lib.me.us/event/book-club-july-22/
ATTACH;FMTTYPE=image/png:http://north-gorham.lib.me.us/wp-content/uploads/2024/07/Screen-Shot-2024-07-08-at-10.32.17-AM.png
END:VEVENT
END:VCALENDAR