BEGIN:VCALENDAR
VERSION:2.0
PRODID:-//North Gorham Public Library - ECPv6.15.20//NONSGML v1.0//EN
CALSCALE:GREGORIAN
METHOD:PUBLISH
X-WR-CALNAME:North Gorham Public Library
X-ORIGINAL-URL:http://north-gorham.lib.me.us
X-WR-CALDESC:Events for North Gorham Public Library
REFRESH-INTERVAL;VALUE=DURATION:PT1H
X-Robots-Tag:noindex
X-PUBLISHED-TTL:PT1H
BEGIN:VTIMEZONE
TZID:America/New_York
BEGIN:DAYLIGHT
TZOFFSETFROM:-0500
TZOFFSETTO:-0400
TZNAME:EDT
DTSTART:20230312T070000
END:DAYLIGHT
BEGIN:STANDARD
TZOFFSETFROM:-0400
TZOFFSETTO:-0500
TZNAME:EST
DTSTART:20231105T060000
END:STANDARD
BEGIN:DAYLIGHT
TZOFFSETFROM:-0500
TZOFFSETTO:-0400
TZNAME:EDT
DTSTART:20240310T070000
END:DAYLIGHT
BEGIN:STANDARD
TZOFFSETFROM:-0400
TZOFFSETTO:-0500
TZNAME:EST
DTSTART:20241103T060000
END:STANDARD
BEGIN:DAYLIGHT
TZOFFSETFROM:-0500
TZOFFSETTO:-0400
TZNAME:EDT
DTSTART:20250309T070000
END:DAYLIGHT
BEGIN:STANDARD
TZOFFSETFROM:-0400
TZOFFSETTO:-0500
TZNAME:EST
DTSTART:20251102T060000
END:STANDARD
END:VTIMEZONE
BEGIN:VEVENT
DTSTART;TZID=America/New_York:20240717T103000
DTEND;TZID=America/New_York:20240717T113000
DTSTAMP:20260423T175546
CREATED:20240716T121646Z
LAST-MODIFIED:20240716T121744Z
UID:3167-1721212200-1721215800@north-gorham.lib.me.us
SUMMARY:Story Hour
DESCRIPTION:Paula says they’ll be monkeying around at Story Hour this week! She’ll read Eileen Christelow’s version of Five Little Monkeys Jumping on the Bed. They’ll do a fun craft — see the picture for an idea of what they’ll make. When they’re done\, they can help their little paper monkeys jump and fall off the bed\, too! Join Paula on Wednesday\, July 17 from 10:30 to 11:30. It’s nice and cool inside the library!ula says they’ll be monkeying around at Story Hour this week!
URL:http://north-gorham.lib.me.us/event/3167/
ATTACH;FMTTYPE=image/jpeg:http://north-gorham.lib.me.us/wp-content/uploads/2024/07/Five-Little-Monkeys.jpg
END:VEVENT
BEGIN:VEVENT
DTSTART;TZID=America/New_York:20240717T120000
DTEND;TZID=America/New_York:20240717T130000
DTSTAMP:20260423T175546
CREATED:20240716T122141Z
LAST-MODIFIED:20240716T122220Z
UID:3172-1721217600-1721221200@north-gorham.lib.me.us
SUMMARY:Nettie Loops
DESCRIPTION:Nettie Gentempo (aka Nettie Loops) is a professional hula hoop artist\, instructor\, dancer\, and choreographer. She has performed on various stages\, including the Blue Ocean Music Hall in Salisbury\, MA\, the Portland House of Music\, and the Institute of Contemporary Art in Boston. She is also the co-founder and artistic director of the Nevaeh Dance Circus. \n\n\n\nNettie will perform outside the library on Wednesday\, July 17 from noon to 1. (We are counting on good weather!)  She’ll also give us some hula hoop lessons. You know you want to learn the secret to keeping it from slipping down your legs!   \n\n\n\n We hope you’ll join us this. Mark the date! Wednesday\, July 17 from noon to 1.
URL:http://north-gorham.lib.me.us/event/nettie-loops-2/
ATTACH;FMTTYPE=image/png:http://north-gorham.lib.me.us/wp-content/uploads/2024/07/Nettie-Loops-2024.png
END:VEVENT
END:VCALENDAR