BEGIN:VCALENDAR
VERSION:2.0
PRODID:-//North Gorham Public Library - ECPv6.15.20//NONSGML v1.0//EN
CALSCALE:GREGORIAN
METHOD:PUBLISH
X-ORIGINAL-URL:http://north-gorham.lib.me.us
X-WR-CALDESC:Events for North Gorham Public Library
REFRESH-INTERVAL;VALUE=DURATION:PT1H
X-Robots-Tag:noindex
X-PUBLISHED-TTL:PT1H
BEGIN:VTIMEZONE
TZID:America/New_York
BEGIN:DAYLIGHT
TZOFFSETFROM:-0500
TZOFFSETTO:-0400
TZNAME:EDT
DTSTART:20230312T070000
END:DAYLIGHT
BEGIN:STANDARD
TZOFFSETFROM:-0400
TZOFFSETTO:-0500
TZNAME:EST
DTSTART:20231105T060000
END:STANDARD
BEGIN:DAYLIGHT
TZOFFSETFROM:-0500
TZOFFSETTO:-0400
TZNAME:EDT
DTSTART:20240310T070000
END:DAYLIGHT
BEGIN:STANDARD
TZOFFSETFROM:-0400
TZOFFSETTO:-0500
TZNAME:EST
DTSTART:20241103T060000
END:STANDARD
BEGIN:DAYLIGHT
TZOFFSETFROM:-0500
TZOFFSETTO:-0400
TZNAME:EDT
DTSTART:20250309T070000
END:DAYLIGHT
BEGIN:STANDARD
TZOFFSETFROM:-0400
TZOFFSETTO:-0500
TZNAME:EST
DTSTART:20251102T060000
END:STANDARD
END:VTIMEZONE
BEGIN:VEVENT
DTSTART;TZID=America/New_York:20240601T000000
DTEND;TZID=America/New_York:20240630T235959
DTSTAMP:20260423T192545
CREATED:20240517T151300Z
LAST-MODIFIED:20240517T151303Z
UID:3046-1717200000-1719791999@north-gorham.lib.me.us
SUMMARY:Art Exhibit
DESCRIPTION:We are excited to be hosting this Art Exhibit throughout the month of June. You can see the paintings inside the library at our annual Plant & Book Sale on Saturday\, June 1 from 9 to 1. The exhibit will also be open from June 1 to June 30 during regular library hours. \n\n\n\nLibrary Hours \n\n\n\nMonday 3-6 (Closed Memorial Day)Tuesday 10-1Wednesday 10-1 and 4-7Saturday 10-1
URL:http://north-gorham.lib.me.us/event/art-exhibit-2/
ATTACH;FMTTYPE=image/png:http://north-gorham.lib.me.us/wp-content/uploads/2024/05/Art-Exhibit.png
END:VEVENT
BEGIN:VEVENT
DTSTART;TZID=America/New_York:20240624T110000
DTEND;TZID=America/New_York:20240624T120000
DTSTAMP:20260423T192545
CREATED:20240531T120859Z
LAST-MODIFIED:20240531T120903Z
UID:3075-1719226800-1719230400@north-gorham.lib.me.us
SUMMARY:Book Club
DESCRIPTION:We will read The Underground Railroad by Colson Whitehead for our June Book Club. In 2016 The Underground Railroad won the Pulitzer Prize in Fiction and the National Book Award. It was also named one of the Ten Best Books of the Year. The book chronicles a young slave’s journey as she makes a desperate bid for freedom in the antebellum South. \n\n\n\nThe Book Club will meet at North Gorham Library on Monday\, June 24 from 11 to noon. You are welcome to participate even if you haven’t read the book.
URL:http://north-gorham.lib.me.us/event/book-club-4/
ATTACH;FMTTYPE=image/png:http://north-gorham.lib.me.us/wp-content/uploads/2024/05/Screen-Shot-2024-05-31-at-8.02.55-AM.png
END:VEVENT
END:VCALENDAR