BEGIN:VCALENDAR
VERSION:2.0
PRODID:-//North Gorham Public Library - ECPv6.15.20//NONSGML v1.0//EN
CALSCALE:GREGORIAN
METHOD:PUBLISH
X-ORIGINAL-URL:http://north-gorham.lib.me.us
X-WR-CALDESC:Events for North Gorham Public Library
REFRESH-INTERVAL;VALUE=DURATION:PT1H
X-Robots-Tag:noindex
X-PUBLISHED-TTL:PT1H
BEGIN:VTIMEZONE
TZID:America/New_York
BEGIN:DAYLIGHT
TZOFFSETFROM:-0500
TZOFFSETTO:-0400
TZNAME:EDT
DTSTART:20230312T070000
END:DAYLIGHT
BEGIN:STANDARD
TZOFFSETFROM:-0400
TZOFFSETTO:-0500
TZNAME:EST
DTSTART:20231105T060000
END:STANDARD
BEGIN:DAYLIGHT
TZOFFSETFROM:-0500
TZOFFSETTO:-0400
TZNAME:EDT
DTSTART:20240310T070000
END:DAYLIGHT
BEGIN:STANDARD
TZOFFSETFROM:-0400
TZOFFSETTO:-0500
TZNAME:EST
DTSTART:20241103T060000
END:STANDARD
BEGIN:DAYLIGHT
TZOFFSETFROM:-0500
TZOFFSETTO:-0400
TZNAME:EDT
DTSTART:20250309T070000
END:DAYLIGHT
BEGIN:STANDARD
TZOFFSETFROM:-0400
TZOFFSETTO:-0500
TZNAME:EST
DTSTART:20251102T060000
END:STANDARD
END:VTIMEZONE
BEGIN:VEVENT
DTSTART;TZID=America/New_York:20240522T103000
DTEND;TZID=America/New_York:20240522T113000
DTSTAMP:20260423T204801
CREATED:20240422T205106Z
LAST-MODIFIED:20240520T231648Z
UID:2993-1716373800-1716377400@north-gorham.lib.me.us
SUMMARY:Story Hour
DESCRIPTION:This week at Story Hour\, Paula and the children will be reading and singing about alligators and crocodiles and making some snapping critters. Be careful! Also\, I think Paula’s granddaughter might follow in her Granny Paula’s footsteps. She loves going to Story Hour. \n\n\n\nStory Hour at North Gorham Public Library — Wednesday morning from 10:30 to 11:30. \n\n\n\n \n\n\n\n\n\n\n\n \n\n\n\n\n\n\n\nSee insights and ads \n\n\n\n \n\n\n\nBoost post \n\n\n\nLike \n\n\n\nComment \n\n\n\nShare
URL:http://north-gorham.lib.me.us/event/story-hour-15/
ATTACH;FMTTYPE=image/jpeg:http://north-gorham.lib.me.us/wp-content/uploads/2024/04/Story-Hour-.jpg
END:VEVENT
END:VCALENDAR