BEGIN:VCALENDAR
VERSION:2.0
PRODID:-//North Gorham Public Library - ECPv6.15.20//NONSGML v1.0//EN
CALSCALE:GREGORIAN
METHOD:PUBLISH
X-ORIGINAL-URL:http://north-gorham.lib.me.us
X-WR-CALDESC:Events for North Gorham Public Library
REFRESH-INTERVAL;VALUE=DURATION:PT1H
X-Robots-Tag:noindex
X-PUBLISHED-TTL:PT1H
BEGIN:VTIMEZONE
TZID:America/New_York
BEGIN:DAYLIGHT
TZOFFSETFROM:-0500
TZOFFSETTO:-0400
TZNAME:EDT
DTSTART:20230312T070000
END:DAYLIGHT
BEGIN:STANDARD
TZOFFSETFROM:-0400
TZOFFSETTO:-0500
TZNAME:EST
DTSTART:20231105T060000
END:STANDARD
BEGIN:DAYLIGHT
TZOFFSETFROM:-0500
TZOFFSETTO:-0400
TZNAME:EDT
DTSTART:20240310T070000
END:DAYLIGHT
BEGIN:STANDARD
TZOFFSETFROM:-0400
TZOFFSETTO:-0500
TZNAME:EST
DTSTART:20241103T060000
END:STANDARD
BEGIN:DAYLIGHT
TZOFFSETFROM:-0500
TZOFFSETTO:-0400
TZNAME:EDT
DTSTART:20250309T070000
END:DAYLIGHT
BEGIN:STANDARD
TZOFFSETFROM:-0400
TZOFFSETTO:-0500
TZNAME:EST
DTSTART:20251102T060000
END:STANDARD
END:VTIMEZONE
BEGIN:VEVENT
DTSTART;TZID=America/New_York:20240520T110000
DTEND;TZID=America/New_York:20240520T120000
DTSTAMP:20260423T204826
CREATED:20240514T151435Z
LAST-MODIFIED:20240514T162343Z
UID:3020-1716202800-1716206400@north-gorham.lib.me.us
SUMMARY:May Book Club
DESCRIPTION:This month\, the Book Club is reading There There by Tommy Orange. The group will meet in the library on Monday\, May 20 from 11 to noon. \n\n\n\nThere There is a debut novel by Cheyenne and Arapaho author Tommy Orange. Published in 2018\, the book follows a large group of Native Americans living in the Oakland\, California area.  \n\n\n\nThere There explores the themes of Native peoples living in urban spaces (Urban Indians)\, and issues of ambivalence and complexity related to Natives’ struggles with identity and authenticity. There There was a finalist for the 2019 Pulitzer Prize and was also awarded a Gold Medal for First Fiction by the California Book Awards.
URL:http://north-gorham.lib.me.us/event/may-book-club/
ATTACH;FMTTYPE=image/jpeg:http://north-gorham.lib.me.us/wp-content/uploads/2024/05/There-There-Cover.jpeg
END:VEVENT
END:VCALENDAR