BEGIN:VCALENDAR
VERSION:2.0
PRODID:-//North Gorham Public Library - ECPv6.15.20//NONSGML v1.0//EN
CALSCALE:GREGORIAN
METHOD:PUBLISH
X-ORIGINAL-URL:http://north-gorham.lib.me.us
X-WR-CALDESC:Events for North Gorham Public Library
REFRESH-INTERVAL;VALUE=DURATION:PT1H
X-Robots-Tag:noindex
X-PUBLISHED-TTL:PT1H
BEGIN:VTIMEZONE
TZID:America/New_York
BEGIN:DAYLIGHT
TZOFFSETFROM:-0500
TZOFFSETTO:-0400
TZNAME:EDT
DTSTART:20230312T070000
END:DAYLIGHT
BEGIN:STANDARD
TZOFFSETFROM:-0400
TZOFFSETTO:-0500
TZNAME:EST
DTSTART:20231105T060000
END:STANDARD
BEGIN:DAYLIGHT
TZOFFSETFROM:-0500
TZOFFSETTO:-0400
TZNAME:EDT
DTSTART:20240310T070000
END:DAYLIGHT
BEGIN:STANDARD
TZOFFSETFROM:-0400
TZOFFSETTO:-0500
TZNAME:EST
DTSTART:20241103T060000
END:STANDARD
BEGIN:DAYLIGHT
TZOFFSETFROM:-0500
TZOFFSETTO:-0400
TZNAME:EDT
DTSTART:20250309T070000
END:DAYLIGHT
BEGIN:STANDARD
TZOFFSETFROM:-0400
TZOFFSETTO:-0500
TZNAME:EST
DTSTART:20251102T060000
END:STANDARD
END:VTIMEZONE
BEGIN:VEVENT
DTSTART;TZID=America/New_York:20240429T110000
DTEND;TZID=America/New_York:20240429T120000
DTSTAMP:20260423T204701
CREATED:20240403T152057Z
LAST-MODIFIED:20240406T154600Z
UID:2912-1714388400-1714392000@north-gorham.lib.me.us
SUMMARY:April Book Club
DESCRIPTION:For April\, the Book Club is reading American Dirt by Jeanine Cummins. The group will meet in the library on Monday\, April 29 from 11 to noon. \n\n\n\nAmerican Dirt is a 2020 novel by American author Jeanine Cummins\, published by Flatiron Books. The book is about a Mexican bookseller who is forced to flee as an illegal immigrant to the United States\, along with her son\, after her journalist husband exposes a local drug kingpin. American Dirt was a New York Times best seller\, selling over 3 million copies worldwide in 37 languages. However\, the book also gained significant criticism\, especially from Mexican-American authors\, for its alleged cultural exploitation. (Wikipedia)
URL:http://north-gorham.lib.me.us/event/april-book-club-2/
ATTACH;FMTTYPE=image/png:http://north-gorham.lib.me.us/wp-content/uploads/2024/04/American-Dirt-Cover-edited.png
END:VEVENT
END:VCALENDAR