BEGIN:VCALENDAR
VERSION:2.0
PRODID:-//North Gorham Public Library - ECPv6.15.20//NONSGML v1.0//EN
CALSCALE:GREGORIAN
METHOD:PUBLISH
X-WR-CALNAME:North Gorham Public Library
X-ORIGINAL-URL:http://north-gorham.lib.me.us
X-WR-CALDESC:Events for North Gorham Public Library
REFRESH-INTERVAL;VALUE=DURATION:PT1H
X-Robots-Tag:noindex
X-PUBLISHED-TTL:PT1H
BEGIN:VTIMEZONE
TZID:America/New_York
BEGIN:DAYLIGHT
TZOFFSETFROM:-0500
TZOFFSETTO:-0400
TZNAME:EDT
DTSTART:20230312T070000
END:DAYLIGHT
BEGIN:STANDARD
TZOFFSETFROM:-0400
TZOFFSETTO:-0500
TZNAME:EST
DTSTART:20231105T060000
END:STANDARD
BEGIN:DAYLIGHT
TZOFFSETFROM:-0500
TZOFFSETTO:-0400
TZNAME:EDT
DTSTART:20240310T070000
END:DAYLIGHT
BEGIN:STANDARD
TZOFFSETFROM:-0400
TZOFFSETTO:-0500
TZNAME:EST
DTSTART:20241103T060000
END:STANDARD
BEGIN:DAYLIGHT
TZOFFSETFROM:-0500
TZOFFSETTO:-0400
TZNAME:EDT
DTSTART:20250309T070000
END:DAYLIGHT
BEGIN:STANDARD
TZOFFSETFROM:-0400
TZOFFSETTO:-0500
TZNAME:EST
DTSTART:20251102T060000
END:STANDARD
END:VTIMEZONE
BEGIN:VEVENT
DTSTART;TZID=America/New_York:20240407T000000
DTEND;TZID=America/New_York:20240414T235959
DTSTAMP:20260423T221625
CREATED:20240403T160411Z
LAST-MODIFIED:20240403T160631Z
UID:2921-1712448000-1713139199@north-gorham.lib.me.us
SUMMARY:National Library Week
DESCRIPTION:
URL:http://north-gorham.lib.me.us/event/national-library-week/
END:VEVENT
BEGIN:VEVENT
DTSTART;TZID=America/New_York:20240410T103000
DTEND;TZID=America/New_York:20240410T113000
DTSTAMP:20260423T221625
CREATED:20240409T155907Z
LAST-MODIFIED:20240409T155907Z
UID:2953-1712745000-1712748600@north-gorham.lib.me.us
SUMMARY:Story Hour
DESCRIPTION:Paula is reading “in a cabin in a wood” for Story Hour this week. She’s bringing along some popsicle sticks so the children can make their own cabins by gluing sticks onto paper. And\, of course\, they’ll do some movement songs. Good for the children and the adults! Wednesday\, April 10 from 10:30 to 11:30.
URL:http://north-gorham.lib.me.us/event/story-hour-8/
END:VEVENT
END:VCALENDAR